BEGIN:VCALENDAR
VERSION:2.0
PRODID:-//Filarmonica Banatul Timișoara - ECPv6.10.2//NONSGML v1.0//EN
CALSCALE:GREGORIAN
METHOD:PUBLISH
X-ORIGINAL-URL:https://filarmonicabanatul.ro
X-WR-CALDESC:Events for Filarmonica Banatul Timișoara
REFRESH-INTERVAL;VALUE=DURATION:PT1H
X-Robots-Tag:noindex
X-PUBLISHED-TTL:PT1H
BEGIN:VTIMEZONE
TZID:Europe/Bucharest
BEGIN:DAYLIGHT
TZOFFSETFROM:+0200
TZOFFSETTO:+0300
TZNAME:EEST
DTSTART:20240331T010000
END:DAYLIGHT
BEGIN:STANDARD
TZOFFSETFROM:+0300
TZOFFSETTO:+0200
TZNAME:EET
DTSTART:20241027T010000
END:STANDARD
END:VTIMEZONE
BEGIN:VEVENT
DTSTART;TZID=Europe/Bucharest:20241113T190000
DTEND;TZID=Europe/Bucharest:20241113T200000
DTSTAMP:20260421T234049
CREATED:20241111T115147Z
LAST-MODIFIED:20241111T115147Z
UID:7216-1731524400-1731528000@filarmonicabanatul.ro
SUMMARY:Concert incluziv | Pișcoțel merge la concert
DESCRIPTION:Pișcoțel merge la concert. Concert incluziv de muzică clasică pentru persoane cu autism și dizabilități diverse.\n\nPișcoțel merge la concert de muzică clasică și vă invită pe toți\, cu sau fără autism\, alături de el!Cu mare bucurie invităm la Filarmonica Banatul\, Timișoara persoanele cu autism\, neurodiverse\, persoanele cu dizabilități intelectuale și/sau fizice\, persoanele cu tulburări de anxietate sau depresie și orice om pentru care atmosfera și privirile oamenilor din sălile de concerte pot fi copleșitoare.Orice meloman care nu se teme de un public divers dar iubește muzica clasică este invitat să participe\, de asemenea.INTRARE LIBERĂ \, PARTICIPAREA SE FACE PE BAZĂ DE REZERVARE LA ACEST LINK: https://forms.gle/oXuFb6JXYE1p3m1K8 Tantrumuri\, plânsete\, sunete specifice etc. nu supăra pe nimeni și nici nu vor fi judecate. Libertatea de a vă mişca în timpul concertului\, de a ieși și reintra în sală.Veți găsi în sala de concert căști antifonice și obiecte cu rol de liniștire.Filarmonica nu are toaletă adaptată utilizatorilor de scaun rulant.\n\nCÂND: 13 noiembrie 2024\, ORA 19 ( 7 seara)UNDE: Filarmonica Banatul\, Timișoara\, Sala Capitol ( Bd. C. D. Loga nr.2)CE: scurt concert de muzică clasicăConcertul este unul INCLUZIV\, la care persoanele neurodiverse și persoanele cu dizabilități intelectuale\, neurologice\, dizabilitate fizică și boli rare sunt așteptate cu mare drag\, împreună cu familia si prietenii.La concert sunt\, de asemenea\, bine-venite și persoane fără dizabilități: seniori\, familii cu copii mici\, prieteni și oricine simte ca locul nostru\, al tuturor\, este ÎMPREUNĂ.\n\nPROGRAM ( aproximativ 60 minute):Lucrări de W.A. Mozart\, Beethoven\, E.Grieg\, P.I. CeaikovskiORGANIZATORI: Asociația Copii și Zâne & Asociatia Supereroi printre noiPARTENERI: Filarmonica Banatul\, TimișoaraCONTACT: Vlad Colareza / tel 0724424388 (WhatsApp\, text sau audio)\n\n”Pișcoțel merge la concert” este un proiect cultural desfășurat de Asociația Copii și Zâne\, în colaborare cu Filarmonica Banatul Timișoara \, Supereroi printre noi și finanțat de Municipiul Timișoara prin Centrul de Proiecte Timișoara .
URL:https://filarmonicabanatul.ro/evenimente/concert-incluziv-piscotel-merge-la-concert/
LOCATION:Sala Capitol\, Bulevardul Constantin Diaconovici Loga Nr. 2\, Timișoara\, Timiș\, 300022\, România
ATTACH;FMTTYPE=image/jpeg:https://filarmonicabanatul.ro/wp-content/uploads/2024/11/Concert-Piscotel-Calendar-Site-Filarmonica.jpg
END:VEVENT
END:VCALENDAR