BEGIN:VCALENDAR
VERSION:2.0
PRODID:-//Filarmonica Banatul Timișoara - ECPv6.10.2//NONSGML v1.0//EN
CALSCALE:GREGORIAN
METHOD:PUBLISH
X-ORIGINAL-URL:https://filarmonicabanatul.ro
X-WR-CALDESC:Events for Filarmonica Banatul Timișoara
REFRESH-INTERVAL;VALUE=DURATION:PT1H
X-Robots-Tag:noindex
X-PUBLISHED-TTL:PT1H
BEGIN:VTIMEZONE
TZID:Europe/Bucharest
BEGIN:DAYLIGHT
TZOFFSETFROM:+0200
TZOFFSETTO:+0300
TZNAME:EEST
DTSTART:20240331T010000
END:DAYLIGHT
BEGIN:STANDARD
TZOFFSETFROM:+0300
TZOFFSETTO:+0200
TZNAME:EET
DTSTART:20241027T010000
END:STANDARD
END:VTIMEZONE
BEGIN:VEVENT
DTSTART;TZID=Europe/Bucharest:20241211T150000
DTEND;TZID=Europe/Bucharest:20241211T160000
DTSTAMP:20260421T215441
CREATED:20241119T123342Z
LAST-MODIFIED:20241119T123342Z
UID:7259-1733929200-1733932800@filarmonicabanatul.ro
SUMMARY:Recital educativ Colinde în jurul lumii | Ansamblul VOCES TIMISIENSES
DESCRIPTION:Miercuri\, 11 decembrie 2024\, la ora 15:00\, la Sala Capitol\, vă invităm la un recital educativ deosebit: Colinde în jurul lumii! Această experiență muzicală va aduce bucuria sărbătorilor de iarnă în inimile copiilor\, printr-o călătorie sonoră fascinantă în diverse colțuri ale lumii. \nAnsamblul VOCES TIMISIENSES\, sub bagheta dirijorului Lucian Onița\, va interpreta cu pasiune și entuziasm colinde tradiționale din diferite culturi\, oferind spectatorilor ocazia să descopere frumusețea și diversitatea tradițiilor muzicale de Crăciun. \nVom fi ghidați în călătoria noastră de actorul Adrian Jivan.
URL:https://filarmonicabanatul.ro/evenimente/recital-educativ-colinde-in-jurul-lumii-ansamblul-voces-timisienses/
LOCATION:Sala Capitol\, Bulevardul Constantin Diaconovici Loga Nr. 2\, Timișoara\, Timiș\, 300022\, România
ATTACH;FMTTYPE=image/png:https://filarmonicabanatul.ro/wp-content/uploads/2024/11/11-Decembrie-EDU_ENTERTIX-1200-X-628-copy-6.png
ORGANIZER;CN="Filarmonica Banatul Timi%C8%99oara":MAILTO:office@filarmonicabanatul.ro
END:VEVENT
END:VCALENDAR