BEGIN:VCALENDAR
VERSION:2.0
PRODID:-//Filarmonica Banatul Timișoara - ECPv6.10.2//NONSGML v1.0//EN
CALSCALE:GREGORIAN
METHOD:PUBLISH
X-ORIGINAL-URL:https://filarmonicabanatul.ro
X-WR-CALDESC:Events for Filarmonica Banatul Timișoara
REFRESH-INTERVAL;VALUE=DURATION:PT1H
X-Robots-Tag:noindex
X-PUBLISHED-TTL:PT1H
BEGIN:VTIMEZONE
TZID:Europe/Bucharest
BEGIN:DAYLIGHT
TZOFFSETFROM:+0200
TZOFFSETTO:+0300
TZNAME:EEST
DTSTART:20240331T010000
END:DAYLIGHT
BEGIN:STANDARD
TZOFFSETFROM:+0300
TZOFFSETTO:+0200
TZNAME:EET
DTSTART:20241027T010000
END:STANDARD
END:VTIMEZONE
BEGIN:VEVENT
DTSTART;TZID=Europe/Bucharest:20241215T190000
DTEND;TZID=Europe/Bucharest:20241215T203000
DTSTAMP:20260421T221121
CREATED:20241104T093112Z
LAST-MODIFIED:20241211T180932Z
UID:7187-1734289200-1734294600@filarmonicabanatul.ro
SUMMARY:Spectacol dramatic-simfonic Recviem IN MEMORIAM dedicat victimelor comunismului | Dirijor: GABRIEL BEBEȘELEA\, soliști: LUIZA FATYOL – soprană\, MARTINIANA ANTONIE – mezzosoprană\, MARIUS BUDOIU – tenor\, CRISTIAN HODREA – bas | Regizor: LEVENTE KOCSÁRDI\, dramaturg: MONA DONICI
DESCRIPTION:La 35 de ani de la Revoluția din Decembrie 1989\, cinstim memoria eroilor căzuți în lupta pentru libertate printr-un spectacol dramatic-simfonic. Evenimentul îmbină teatrul și muzica simfonică într-un concept aparte ce presupune recitarea a șapte monoloage scrise special cu această ocazie de Mona Donici\, în direcția de scenă a regizorului Levente Kocsárdi\, urmate de interpretarea lucrării vocal-simfonice Recviem IN MEMORIAM dedicat victimelor comunismului. \nDuminică\, 15 decembrie 2024\, de la ora 19:00\, pe scena Sălii Capitol vor urca artiștii Orchestrei simfonice „Remus Georgescu” și Corului „Ion Românu” ale Filarmonicii Banatul Timișoara\, sub conducerea maestrului GABRIEL BEBEȘELEA. Soliști vor fi soprana Luiza Fatyol\, mezzosoprana Martiniana Antonie\, tenorul Marius Budoiu și basul Cristian Hodrea. \nConceptul\, ce a presupus crearea unei lucrări alcătuite din șapte părți\, scrise de compozitori din tot atâtea state foste membre ale blocului comunist unde au avut loc revoluții\, îi aparține maestrului GABRIEL BEBEȘELEA. Premiera lucrării a avut loc în 2023\, anul în care Timișoara și-a exercitat titlul de Capitală Europeană a Culturii\, în prezența celor șapte compozitori. \nCoregrafie: Anca Stoica \nInterpretează: Andrei Elek\, Ana-Maria Pandele\, Darie Doklean\, Maria Leca\, Iulia Ioana\, Alexandru Negrea\, Christopher Oancea-Cîtu \nVideo: Sebastian Hamburgher \nSunet: Sebastian Bayer \nLumini: Dorian Bolca
URL:https://filarmonicabanatul.ro/evenimente/spectacol-dramatic-simfonic-recviem-in-memoriam-dedicat-victimelor-comunismului-dirijor-vincent-kozlovski-solisti-luiza-fatyol-soprana-martiniana-antonie-mezzosoprana-marius/
LOCATION:Sala Capitol\, Bulevardul Constantin Diaconovici Loga Nr. 2\, Timișoara\, Timiș\, 300022\, România
ATTACH;FMTTYPE=image/png:https://filarmonicabanatul.ro/wp-content/uploads/2024/11/RECVIEM-_ENTERTIX-1200-X-628_ENTERTIX-1200-X-628.png
ORGANIZER;CN="Filarmonica Banatul Timi%C8%99oara":MAILTO:office@filarmonicabanatul.ro
END:VEVENT
END:VCALENDAR