BEGIN:VCALENDAR
VERSION:2.0
PRODID:-//Filarmonica Banatul Timișoara - ECPv6.10.2//NONSGML v1.0//EN
CALSCALE:GREGORIAN
METHOD:PUBLISH
X-WR-CALNAME:Filarmonica Banatul Timișoara
X-ORIGINAL-URL:https://filarmonicabanatul.ro
X-WR-CALDESC:Events for Filarmonica Banatul Timișoara
REFRESH-INTERVAL;VALUE=DURATION:PT1H
X-Robots-Tag:noindex
X-PUBLISHED-TTL:PT1H
BEGIN:VTIMEZONE
TZID:Europe/Bucharest
BEGIN:DAYLIGHT
TZOFFSETFROM:+0200
TZOFFSETTO:+0300
TZNAME:EEST
DTSTART:20240331T010000
END:DAYLIGHT
BEGIN:STANDARD
TZOFFSETFROM:+0300
TZOFFSETTO:+0200
TZNAME:EET
DTSTART:20241027T010000
END:STANDARD
END:VTIMEZONE
BEGIN:VEVENT
DTSTART;TZID=Europe/Bucharest:20241220T100000
DTEND;TZID=Europe/Bucharest:20241220T110000
DTSTAMP:20260421T215413
CREATED:20241119T095344Z
LAST-MODIFIED:20241205T104311Z
UID:7242-1734688800-1734692400@filarmonicabanatul.ro
SUMMARY:Concert vocal-simfonic educativ de Crăciun (12-18 ani) | Dirijor: CIPRIAN TEODORAȘCU\, soliști: CRISTINA MARIA OLTEAN – soprană\, ȘTEFAN von KORCH - tenor
DESCRIPTION:Visează la magia sărbătorilor alături de noi! Te invităm să savurezi o dimineață specială\, plină de muzică și bucurie\, vineri\, 20 de cembrie\, de la ora 10:00\, la Sala Capitol. Concertul simfonic educativ le este destinat tinerilor cu vârste cuprinse între 12 și 18 ani\, oferindu-le ocazia de a descoperi frumusețea muzicii clasice. \nSub bagheta dirijorului Ciprian Teodorașcu\, orchestra simfonică și Corul Filarmonicii Banatul ne vor purta într-o călătorie sonoră memorabilă. Alături de aceștia\, soliștii Cristina Maria Oltean (soprană) și Ștefan von Korch (tenor) ne vor încânta cu vocile lor impresionante\, aducând la viață cele mai frumoase colinde.
URL:https://filarmonicabanatul.ro/evenimente/concert-vocal-simfonic-educativ-de-craciun-12-18-ani-dirijor-ciprian-teodorascu-solisti-cristina-maria-oltean-soprana-stefan-korch-tenor/
LOCATION:Sala Capitol\, Bulevardul Constantin Diaconovici Loga Nr. 2\, Timișoara\, Timiș\, 300022\, România
ATTACH;FMTTYPE=image/png:https://filarmonicabanatul.ro/wp-content/uploads/2024/11/20-Decembrie-EDU-Craciun_ENTERTIX-1200-x-6281.png
ORGANIZER;CN="Filarmonica Banatul Timi%C8%99oara":MAILTO:office@filarmonicabanatul.ro
END:VEVENT
BEGIN:VEVENT
DTSTART;TZID=Europe/Bucharest:20241220T190000
DTEND;TZID=Europe/Bucharest:20241220T210000
DTSTAMP:20260421T215413
CREATED:20241118T123612Z
LAST-MODIFIED:20241218T130035Z
UID:7232-1734721200-1734728400@filarmonicabanatul.ro
SUMMARY:Concert vocal-simfonic extraordinar de Crăciun | Dirijor: CIPRIAN TEODORAȘCU\, soliști: CRISTINA MARIA OLTEAN – soprană\, ȘTEFAN von KORCH - tenor
DESCRIPTION:Una dintre cele mai mari bucurii în preajma sărbătorilor de iarnă este să ascultăm colinde. Și\, pentru că iubim tradițiile muzicale românești prilejuite de sărbătoarea Crăciunului\, dar și pentru că ne încântă cele din repertoriul universal\, reunim cele mai îndrăgite colide din repertoriul românesc și universal într-un singur concert. \nAstfel\, vineri\, 20 decembrie 2024\, de la ora 19:00\, la Sala Capitol\, vă invităm să ne bucurăm împreună cu Orchestra și Corul Filarmonicii Banatul Timișoara\, sub conducerea dirijorală a lui Ciprian Teodorașcu\, de cele mai frumoase colinde din lume. \nSoliștii concertului\, soprana Cristina Maria Oltean și tenorul Ștefan von Korch vor da culoare acestui program de sărbătoare. \nCorul va fi pregătit de maestrul Iosif Todea. \n  \nTOATE BILETELE AU FOST VÂNDUTE!
URL:https://filarmonicabanatul.ro/evenimente/concert-vocal-simfonic-extraordinar-de-craciun-dirijor-ciprian-teodorascu-solisti-cristina-maria-oltean-soprana-stefan-korch-tenor/
LOCATION:Sala Capitol\, Bulevardul Constantin Diaconovici Loga Nr. 2\, Timișoara\, Timiș\, 300022\, România
ATTACH;FMTTYPE=image/png:https://filarmonicabanatul.ro/wp-content/uploads/2024/11/20-Decembrie-Concert-de-Craciun-SOLD-OUT_ENTERTIX-1200-X-628-copy-6.png
ORGANIZER;CN="Filarmonica Banatul Timi%C8%99oara":MAILTO:office@filarmonicabanatul.ro
END:VEVENT
END:VCALENDAR