BEGIN:VCALENDAR
VERSION:2.0
PRODID:-//Filarmonica Banatul Timișoara - ECPv6.10.2//NONSGML v1.0//EN
CALSCALE:GREGORIAN
METHOD:PUBLISH
X-ORIGINAL-URL:https://filarmonicabanatul.ro
X-WR-CALDESC:Events for Filarmonica Banatul Timișoara
REFRESH-INTERVAL;VALUE=DURATION:PT1H
X-Robots-Tag:noindex
X-PUBLISHED-TTL:PT1H
BEGIN:VTIMEZONE
TZID:Europe/Bucharest
BEGIN:DAYLIGHT
TZOFFSETFROM:+0200
TZOFFSETTO:+0300
TZNAME:EEST
DTSTART:20250330T010000
END:DAYLIGHT
BEGIN:STANDARD
TZOFFSETFROM:+0300
TZOFFSETTO:+0200
TZNAME:EET
DTSTART:20251026T010000
END:STANDARD
END:VTIMEZONE
BEGIN:VEVENT
DTSTART;TZID=Europe/Bucharest:20250124T190000
DTEND;TZID=Europe/Bucharest:20250124T210000
DTSTAMP:20260421T195247
CREATED:20241205T082201Z
LAST-MODIFIED:20241205T082201Z
UID:7306-1737745200-1737752400@filarmonicabanatul.ro
SUMMARY:Concert simfonic | Dirijor: STEFAN GEIGER\, solist: DINU MIHĂILESCU – pian
DESCRIPTION:Orchestra simfonică „Remus Georgescu” a Filarmonicii Banatul Timișoara\, sub conducerea dirijorală a maestrului Stefan Geiger\, va interpreta\, în deschidere\, Suita „Jocuri populare din Transilvania” de C. SILVESTRI. Apoi\, vom audia Concertul nr. 3 pentru pian și orchestră\, în mi major\, Sz 119 de B. BARTÓK\, lucrare ce îl va avea ca solist pe talentatul pianist Dinu Mihăilescu. În încheiere\, ascultăm Simfonia nr. 1\, în mi bemol major\, op. 13 de G. Enescu. \n  \nEN \nThe „Remus Georgescu” Symphony Orchestra of the Banatul Philharmonic\, under the conductorship of maestro Stefan Geiger\, will open the „Jocuri populare din Transilvania” Suite by C. SILVESTRI. Then\, we will listen to Concert no. 3 for piano and orchestra\, in E major\, Sz 119 by B. BARTÓK\, a work that will feature the talented pianist Dinu Mihăilescu as soloist. In the end\, we will listen to Symphony no. 1\, in E flat major\, op. 13 by G. Enescu.
URL:https://filarmonicabanatul.ro/evenimente/concert-simfonic-dirijor-stefan-geiger-solist-dinu-mihailescu-pian/
LOCATION:Sala Capitol\, Bulevardul Constantin Diaconovici Loga Nr. 2\, Timișoara\, Timiș\, 300022\, România
ATTACH;FMTTYPE=image/png:https://filarmonicabanatul.ro/wp-content/uploads/2024/12/24-ianuarie_ENTERTIX-1200-X-628-copy-6.png
ORGANIZER;CN="Filarmonica Banatul Timi%C8%99oara":MAILTO:office@filarmonicabanatul.ro
END:VEVENT
END:VCALENDAR