BEGIN:VCALENDAR
VERSION:2.0
PRODID:-//Filarmonica Banatul Timișoara - ECPv6.10.2//NONSGML v1.0//EN
CALSCALE:GREGORIAN
METHOD:PUBLISH
X-ORIGINAL-URL:https://filarmonicabanatul.ro
X-WR-CALDESC:Events for Filarmonica Banatul Timișoara
REFRESH-INTERVAL;VALUE=DURATION:PT1H
X-Robots-Tag:noindex
X-PUBLISHED-TTL:PT1H
BEGIN:VTIMEZONE
TZID:Europe/Bucharest
BEGIN:DAYLIGHT
TZOFFSETFROM:+0200
TZOFFSETTO:+0300
TZNAME:EEST
DTSTART:20250330T010000
END:DAYLIGHT
BEGIN:STANDARD
TZOFFSETFROM:+0300
TZOFFSETTO:+0200
TZNAME:EET
DTSTART:20251026T010000
END:STANDARD
END:VTIMEZONE
BEGIN:VEVENT
DTSTART;TZID=Europe/Bucharest:20250130T080000
DTEND;TZID=Europe/Bucharest:20250206T190000
DTSTAMP:20260421T174957
CREATED:20250130T100950Z
LAST-MODIFIED:20250130T100950Z
UID:7409-1738224000-1738868400@filarmonicabanatul.ro
SUMMARY:Pachet promoțional - „Februarie la Filarmonică - 5 concerte la doar 120 de lei”
DESCRIPTION:Fie că ești un pasionat al muzicii clasice sau doar vrei să descoperi magia unui concert live la Filarmonica 𝐵𝑎𝑛𝑎𝑡𝑢𝑙\, avem o ofertă specială pentru tine! În februarie\, îți oferim 5 𝐜𝐨𝐧𝐜𝐞𝐫𝐭𝐞 𝐥𝐚 𝐝𝐨𝐚𝐫 𝟏𝟐𝟎 𝐝𝐞 𝐥𝐞𝐢 – o ocazie unică să te bucuri de sunetul orchestrei și de atmosfera spectaculoasă a sălii de concert.\n\n\n\nGrăbește-te! Oferta este valabilă doar până pe 6 februarie\, data primului concert din pachet. Cu un singur click\, îți rezervi locul pentru cinci seri magice în compania muzicii clasice.\n\n\n\nTot ce trebuie să faci este să accesezi link-ul https://shorturl.at/pzyIr și să-ți alegi locurile din segmentul dedicat campaniei\, iar acestea vor fi rezervate automat pentru toate cele cinci concerte. Simplu\, rapid și accesibil!\n\n\n\nCampania este activă între 27 ianuarie și 6 februarie 2025\, în limita locurilor disponibile. Nu rata șansa de a transforma luna februarie într-un adevărat regal muzical!
URL:https://filarmonicabanatul.ro/evenimente/pachet-promotional-februarie-la-filarmonica-5-concerte-la-doar-120-de-lei/
LOCATION:Sala Capitol\, Bulevardul Constantin Diaconovici Loga Nr. 2\, Timișoara\, Timiș\, 300022\, România
ATTACH;FMTTYPE=image/png:https://filarmonicabanatul.ro/wp-content/uploads/2025/01/campanie-februarie_ENTERTIX-1200-X-628.png
ORGANIZER;CN="Filarmonica Banatul Timi%C8%99oara":MAILTO:office@filarmonicabanatul.ro
END:VEVENT
BEGIN:VEVENT
DTSTART;TZID=Europe/Bucharest:20250130T190000
DTEND;TZID=Europe/Bucharest:20250130T203000
DTSTAMP:20260421T174957
CREATED:20250109T074300Z
LAST-MODIFIED:20250109T074300Z
UID:7358-1738263600-1738269000@filarmonicabanatul.ro
SUMMARY:Recital de marimbe | Ansamblul Wooden Echoes
DESCRIPTION:În interpretarea cvartetului Wooden Echoes\, alcătuit din tinerii și talentații artiști Amelia Trifu\, Patrick Cojerean\, Michael Blescun și Philip Goron\, ascultăm un program atractiv ce pune în valoare sunetele marimbelor. Creațiile compozitorilor A. PIAZZOLLA\, F. POSER\, E. SÉJOURNÉ se vor auzi la Sala Capitol\, joi\, 30 ianuarie 2025\, de la ora 19:00. \n 
URL:https://filarmonicabanatul.ro/evenimente/recital-de-marimbe-ansamblul-wooden-echoes/
LOCATION:Sala Capitol\, Bulevardul Constantin Diaconovici Loga Nr. 2\, Timișoara\, Timiș\, 300022\, România
ATTACH;FMTTYPE=image/png:https://filarmonicabanatul.ro/wp-content/uploads/2025/01/30-ianuarie_ENTERTIX-1200-X-628-copy-7.png
ORGANIZER;CN="Filarmonica Banatul Timi%C8%99oara":MAILTO:office@filarmonicabanatul.ro
END:VEVENT
END:VCALENDAR