BEGIN:VCALENDAR
VERSION:2.0
PRODID:-//Filarmonica Banatul Timișoara - ECPv6.10.2//NONSGML v1.0//EN
CALSCALE:GREGORIAN
METHOD:PUBLISH
X-ORIGINAL-URL:https://filarmonicabanatul.ro
X-WR-CALDESC:Events for Filarmonica Banatul Timișoara
REFRESH-INTERVAL;VALUE=DURATION:PT1H
X-Robots-Tag:noindex
X-PUBLISHED-TTL:PT1H
BEGIN:VTIMEZONE
TZID:Europe/Bucharest
BEGIN:DAYLIGHT
TZOFFSETFROM:+0200
TZOFFSETTO:+0300
TZNAME:EEST
DTSTART:20250330T010000
END:DAYLIGHT
BEGIN:STANDARD
TZOFFSETFROM:+0300
TZOFFSETTO:+0200
TZNAME:EET
DTSTART:20251026T010000
END:STANDARD
END:VTIMEZONE
BEGIN:VEVENT
DTSTART;TZID=Europe/Bucharest:20250315T163000
DTEND;TZID=Europe/Bucharest:20250404T190000
DTSTAMP:20260421T154809
CREATED:20250315T142042Z
LAST-MODIFIED:20250323T111629Z
UID:7624-1742056200-1743793200@filarmonicabanatul.ro
SUMMARY:Aprilie la Filarmonică - Simfonia primăverii | Patru concerte la 120 de lei
DESCRIPTION:Vă aducem vești grozave!\n\n\nCa urmare a cererii mari\, am suplimentat locurile pentru campania Aprilie la Filarmonică – Simfonia primăverii | Patru concerte la 120 de lei!\n\n\n \n\n\nAșadar\, vă invităm să vă bucurați de patru concerte de excepție într-un abonament special de 120 de lei. Alături de interpreți de renume și un repertoriu remarcabil\, veți trăi o călătorie sonoră minunată\, de la Mozart și Brahms\, până la Schumann și Debussy. \n\n\n \n\n\nIată programul:\n\n\n \n\n\nVineri\, 4 aprilie 2025\, ora 19:00 | Sala Capitol\n\n\n🎶𝐂𝐨𝐧𝐜𝐞𝐫𝐭 𝐬𝐢𝐦𝐟𝐨𝐧𝐢𝐜\n\n\nDirijor: Gottfried Rabl\n\n\nSolistă: Silvia Careddu – flaut\n\n\nW. A. Mozart – Concertul pentru flaut și orchestră\, KV 313\n\n\nJ. Brahms – Simfonia nr. 2 în re major\, op. 73\n\n\n\n\n\nVineri\, 11 aprilie 2025\, ora 19:00 | Sala Capitol\n\n\n🎶𝐂𝐨𝐧𝐜𝐞𝐫𝐭 𝐬𝐢𝐦𝐟𝐨𝐧𝐢𝐜\n\n\nDirijor: Radu Popa\n\n\nSolist: Yo Kitamura – violoncel (Câștigătorul Concursului „George Enescu” 2024)\n\n\nC. M. von Weber – Invitație la vals\, op. 65\n\n\nJ. Haydn – Concertul pentru violoncel și orchestră nr. 1 în do major\, Hob. VIIb/1\n\n\nF. Schubert – Simfonia nr. 4\, D. 417\n\n\n\n\n\nJoi\, 17 aprilie 2025\, ora 19:00 | Sala Capitol\n\n\n🎶𝐂𝐨𝐧𝐜𝐞𝐫𝐭 𝐬𝐢𝐦𝐟𝐨𝐧𝐢𝐜\n\n\nDirijor: Sander Teepen\n\n\nSoliști:\n\n\nDaniel Ciobanu – pian\n\n\nAlina Todea – soprană\n\n\nLucian Onița – bas\n\n\nDirijorul corului: Iosif Todea\n\n\nS. Rahmaninov – Concertul pentru pian și orchestră nr. 2 în do minor\, op. 18\n\n\nG. Fauré – Requiem ăn re minor\, op. 48\n\n\n\n\n\nVineri\, 25 aprilie 2025\, ora 19:00 | Sala Capitol\n\n\n🎶𝐂𝐨𝐧𝐜𝐞𝐫𝐭 𝐬𝐢𝐦𝐟𝐨𝐧𝐢𝐜\n\n\nDirijor: Christian Schumann\n\n\nSolist: Giovanni Punzi – clarinet\n\n\nM. Ravel – Pavană pentru o infantă defunctă\n\n\nJ. Françaix – Concertul pentru clarinet și orchestră\n\n\nC. Debussy – Marea\n\n\n \n\n\nLocurile sunt limitate!\n\n\n\n\n\n\n\n \n\n\n \n\n\n 
URL:https://filarmonicabanatul.ro/evenimente/aprilie-la-filarmonica-simfonia-primaverii-patru-concerte-la-120-de-lei/
LOCATION:Sala Capitol\, Bulevardul Constantin Diaconovici Loga Nr. 2\, Timișoara\, Timiș\, 300022\, România
ATTACH;FMTTYPE=image/png:https://filarmonicabanatul.ro/wp-content/uploads/2025/03/campanie-entertix-aprilie_ENTERTIX-1200-X-628-1.png
ORGANIZER;CN="Filarmonica Banatul Timi%C8%99oara":MAILTO:office@filarmonicabanatul.ro
END:VEVENT
BEGIN:VEVENT
DTSTART;TZID=Europe/Bucharest:20250329T110000
DTEND;TZID=Europe/Bucharest:20250329T120000
DTSTAMP:20260421T154809
CREATED:20250211T072803Z
LAST-MODIFIED:20250326T080118Z
UID:7428-1743246000-1743249600@filarmonicabanatul.ro
SUMMARY:Recital educativ | Muzică din desene animate (2-7 ani) - SOLD OUT!
DESCRIPTION:Toate biletele pentru recitalul educativ Muzică din desene animate au fost vândute! Vă așteptăm cu drag în sală ca să ne bucurăm împreună de momente prețioase\, în compania muzicii! \n___________ \nCreațiile Disney ne cuceresc de fiecare dată\, la fel și coloanele sonore ale acestor minunate desene animate. Vă invităm\, dragi copii\, părinți și bunici\, să petreceți un ceas în compania artiștilor Ana David\, Carmen Iuga\, Andreea Szekeres\, Bogdan Preda și Andreea Olariu\, care ne vor încânta cu ritmurile aranjamentelor lui Cristian Spătaru. Recitalul educativ are loc sâmbătă\, 29 martie\, de la ora 11:00\, la Sala Capitol\, iar atmosfera plină de bună dispoziție va fi garantată de prezența unui prezentator prietenos și plin de umor: actorul Ionuț Marian Pîrvulescu.
URL:https://filarmonicabanatul.ro/evenimente/recital-educativ-muzica-din-desene-animate-2-7-ani-9/
LOCATION:Sala Capitol\, Bulevardul Constantin Diaconovici Loga Nr. 2\, Timișoara\, Timiș\, 300022\, România
ATTACH;FMTTYPE=image/png:https://filarmonicabanatul.ro/wp-content/uploads/2025/02/29-martie-Educativ-Sold-out_ENTERTIX-1200-X-628.png
ORGANIZER;CN="Filarmonica Banatul Timi%C8%99oara":MAILTO:office@filarmonicabanatul.ro
END:VEVENT
BEGIN:VEVENT
DTSTART;TZID=Europe/Bucharest:20250329T190000
DTEND;TZID=Europe/Bucharest:20250329T200000
DTSTAMP:20260421T154809
CREATED:20250227T124811Z
LAST-MODIFIED:20250227T124811Z
UID:7518-1743274800-1743278400@filarmonicabanatul.ro
SUMMARY:riTM în Banat - Turneu inSuflu | Recital Matei Ioachimescu & The Romanian Flute Ensemble | Oravița
DESCRIPTION:riTM în Banat\, turneul de promovare a Festivalului Timișoara Muzicală în partea de vest a țării ajunge la cea de-a doua ediție. În acest an\, sub titlul inSuflu\, Matei Ioachimescu & The Romanian Flute Ensemble vestesc apropierea ediției a XLIX-a festivalului în Oravița\, sâmbătă\, 29 martie 2025\, de la ora 19:00\, la Casa de Cultură. Programul artistic al recitalului: \nStephen Schwartz – „Defying Gravity” \nKrzysztof Zgraja – „Soul Menuet & Rock Badinerie” \nDerek Charke – „Raga 7” \nEugene Magalif – „Colibri” \nRichards Rodgers – Suita din filmul „Sound of Music” \nlan Clarke – „Within” \nFreddie Mercury – „Bohemian Rhapsody” \nGareth McLearnon – „So many themes\, so little time” \nRomanian Flute Ensemble\, fondat la inițiativa profesorului și solistului Matei Ioachimescu este un ansamblu cu o componență care variază de la 4 la 8 tineri flautiști\, într-o formulă instrumentală inedită: o mini orchestră care aduce în prin plan toată familia de flaute moderne\, de la flautul bas la piculină. Membrii Romanian Flute Ensemble – Riana Savu\, Romina Onișor\, Tabea Bebeșelea\, Katica Lázár\, Bella Moisa și Eduard Miclea sunt studenți ai Universității de Vest din Timișoara și reprezintă noul val românesc de flautiști de excepție\, premianți internațional și aliniați la standarde de interpretare și de gândire vest-europene. \nMatei  Ioachimescu\,   flautist   român   de   renume cu   o   activitate concertistică impresionantă\, este recunoscut pentru interpretările repertoriului baroc\, modern\, dar și pentru recitaluri cross-over. Este absolvent al Universității de Muzică din Viena\, oraș unde s-a stabilit. Matei Ioachimescu este laureat al mai multor distincții si burse și colaborează cu unii dintre cei mai interesanți muzicieni din Europa\, în săli de concerte prestigioase. Este invitat ca membru al juriului în competiții internaționale și susține workshop-uri în Austria\, Japonia\, Ungaria\, România și Croația. Din anul 2020\, Matei Ioachimescu predă cursuri de flaut la Facultatea de Muzică și Teatru a Universității de Vest din Timișoara.
URL:https://filarmonicabanatul.ro/evenimente/ritm-in-banat-turneu-insuflu-recital-matei-ioachimescu-the-romanian-flute-ensemble-oravita/
LOCATION:Casa de Cultură Oravița\, Str. 1 Decembrie 1918\, Oravița\, Caraș-Severin
ATTACH;FMTTYPE=image/png:https://filarmonicabanatul.ro/wp-content/uploads/2025/02/29-martie-Oravita_ENTERTIX-1200-X-628.png
ORGANIZER;CN="Filarmonica Banatul Timi%C8%99oara":MAILTO:office@filarmonicabanatul.ro
END:VEVENT
END:VCALENDAR