BEGIN:VCALENDAR
VERSION:2.0
PRODID:-//Filarmonica Banatul Timișoara - ECPv6.10.2//NONSGML v1.0//EN
CALSCALE:GREGORIAN
METHOD:PUBLISH
X-ORIGINAL-URL:https://filarmonicabanatul.ro
X-WR-CALDESC:Events for Filarmonica Banatul Timișoara
REFRESH-INTERVAL;VALUE=DURATION:PT1H
X-Robots-Tag:noindex
X-PUBLISHED-TTL:PT1H
BEGIN:VTIMEZONE
TZID:Europe/Bucharest
BEGIN:DAYLIGHT
TZOFFSETFROM:+0200
TZOFFSETTO:+0300
TZNAME:EEST
DTSTART:20250330T010000
END:DAYLIGHT
BEGIN:STANDARD
TZOFFSETFROM:+0300
TZOFFSETTO:+0200
TZNAME:EET
DTSTART:20251026T010000
END:STANDARD
END:VTIMEZONE
BEGIN:VEVENT
DTSTART;TZID=Europe/Bucharest:20250315T163000
DTEND;TZID=Europe/Bucharest:20250404T190000
DTSTAMP:20260421T131418
CREATED:20250315T142042Z
LAST-MODIFIED:20250323T111629Z
UID:7624-1742056200-1743793200@filarmonicabanatul.ro
SUMMARY:Aprilie la Filarmonică - Simfonia primăverii | Patru concerte la 120 de lei
DESCRIPTION:Vă aducem vești grozave!\n\n\nCa urmare a cererii mari\, am suplimentat locurile pentru campania Aprilie la Filarmonică – Simfonia primăverii | Patru concerte la 120 de lei!\n\n\n \n\n\nAșadar\, vă invităm să vă bucurați de patru concerte de excepție într-un abonament special de 120 de lei. Alături de interpreți de renume și un repertoriu remarcabil\, veți trăi o călătorie sonoră minunată\, de la Mozart și Brahms\, până la Schumann și Debussy. \n\n\n \n\n\nIată programul:\n\n\n \n\n\nVineri\, 4 aprilie 2025\, ora 19:00 | Sala Capitol\n\n\n🎶𝐂𝐨𝐧𝐜𝐞𝐫𝐭 𝐬𝐢𝐦𝐟𝐨𝐧𝐢𝐜\n\n\nDirijor: Gottfried Rabl\n\n\nSolistă: Silvia Careddu – flaut\n\n\nW. A. Mozart – Concertul pentru flaut și orchestră\, KV 313\n\n\nJ. Brahms – Simfonia nr. 2 în re major\, op. 73\n\n\n\n\n\nVineri\, 11 aprilie 2025\, ora 19:00 | Sala Capitol\n\n\n🎶𝐂𝐨𝐧𝐜𝐞𝐫𝐭 𝐬𝐢𝐦𝐟𝐨𝐧𝐢𝐜\n\n\nDirijor: Radu Popa\n\n\nSolist: Yo Kitamura – violoncel (Câștigătorul Concursului „George Enescu” 2024)\n\n\nC. M. von Weber – Invitație la vals\, op. 65\n\n\nJ. Haydn – Concertul pentru violoncel și orchestră nr. 1 în do major\, Hob. VIIb/1\n\n\nF. Schubert – Simfonia nr. 4\, D. 417\n\n\n\n\n\nJoi\, 17 aprilie 2025\, ora 19:00 | Sala Capitol\n\n\n🎶𝐂𝐨𝐧𝐜𝐞𝐫𝐭 𝐬𝐢𝐦𝐟𝐨𝐧𝐢𝐜\n\n\nDirijor: Sander Teepen\n\n\nSoliști:\n\n\nDaniel Ciobanu – pian\n\n\nAlina Todea – soprană\n\n\nLucian Onița – bas\n\n\nDirijorul corului: Iosif Todea\n\n\nS. Rahmaninov – Concertul pentru pian și orchestră nr. 2 în do minor\, op. 18\n\n\nG. Fauré – Requiem ăn re minor\, op. 48\n\n\n\n\n\nVineri\, 25 aprilie 2025\, ora 19:00 | Sala Capitol\n\n\n🎶𝐂𝐨𝐧𝐜𝐞𝐫𝐭 𝐬𝐢𝐦𝐟𝐨𝐧𝐢𝐜\n\n\nDirijor: Christian Schumann\n\n\nSolist: Giovanni Punzi – clarinet\n\n\nM. Ravel – Pavană pentru o infantă defunctă\n\n\nJ. Françaix – Concertul pentru clarinet și orchestră\n\n\nC. Debussy – Marea\n\n\n \n\n\nLocurile sunt limitate!\n\n\n\n\n\n\n\n \n\n\n \n\n\n 
URL:https://filarmonicabanatul.ro/evenimente/aprilie-la-filarmonica-simfonia-primaverii-patru-concerte-la-120-de-lei/
LOCATION:Sala Capitol\, Bulevardul Constantin Diaconovici Loga Nr. 2\, Timișoara\, Timiș\, 300022\, România
ATTACH;FMTTYPE=image/png:https://filarmonicabanatul.ro/wp-content/uploads/2025/03/campanie-entertix-aprilie_ENTERTIX-1200-X-628-1.png
ORGANIZER;CN="Filarmonica Banatul Timi%C8%99oara":MAILTO:office@filarmonicabanatul.ro
END:VEVENT
END:VCALENDAR