BEGIN:VCALENDAR
VERSION:2.0
PRODID:-//Filarmonica Banatul Timișoara - ECPv6.10.2//NONSGML v1.0//EN
CALSCALE:GREGORIAN
METHOD:PUBLISH
X-ORIGINAL-URL:https://filarmonicabanatul.ro
X-WR-CALDESC:Events for Filarmonica Banatul Timișoara
REFRESH-INTERVAL;VALUE=DURATION:PT1H
X-Robots-Tag:noindex
X-PUBLISHED-TTL:PT1H
BEGIN:VTIMEZONE
TZID:Europe/Bucharest
BEGIN:DAYLIGHT
TZOFFSETFROM:+0200
TZOFFSETTO:+0300
TZNAME:EEST
DTSTART:20250330T010000
END:DAYLIGHT
BEGIN:STANDARD
TZOFFSETFROM:+0300
TZOFFSETTO:+0200
TZNAME:EET
DTSTART:20251026T010000
END:STANDARD
END:VTIMEZONE
BEGIN:VEVENT
DTSTART;TZID=Europe/Bucharest:20250406T180000
DTEND;TZID=Europe/Bucharest:20250406T190000
DTSTAMP:20260421T145926
CREATED:20250306T105127Z
LAST-MODIFIED:20250306T105127Z
UID:7565-1743962400-1743966000@filarmonicabanatul.ro
SUMMARY:riTM în Banat – Turneu inSuflu | Matei Ioachimescu & The Romanian Flute Ensemble | Moldova Nouă
DESCRIPTION:riTM în Banat\, turneul de promovare a Festivalului Timișoara Muzicală în partea de vest a țării ajunge la cea de-a doua ediție. În acest an\, sub titlul inSuflu\, Matei Ioachimescu & The Romanian Flute Ensemble vestesc apropierea ediției a XLIX-a festivalului la Moldova Nouă\, duminică\, 6 aprilie 2025\, de la ora 18:00\, la Casa de Cultură din localitate. Programul artistic al recitalului: \nStephen Schwartz – „Defying Gravity”\nKrzysztof Zgraja – „Soul Menuet & Rock Badinerie”\nDerek Charke – „Raga 7”\nEugene Magalif – „Colibri”\nRichards Rodgers – Suita din filmul „Sound of Music”\nlan Clarke – „Within”\nFreddie Mercury – „Bohemian Rhapsody”\nGareth McLearnon – „So many themes\, so little time” \nRomanian Flute Ensemble\, fondat la inițiativa profesorului și solistului Matei Ioachimescu este un ansamblu cu o componență care variază de la 4 la 8 tineri flautiști\, într-o formulă instrumentală inedită: o mini orchestră care aduce în prin plan toată familia de flaute moderne\, de la flautul bas la piculină. Membrii Romanian Flute Ensemble – Riana Savu\, Romina Onișor\, Tabea Bebeșelea\, Katica Lázár\, Bella Moisa și Eduard Miclea sunt studenți ai Universității de Vest din Timișoara și reprezintă noul val românesc de flautiști de excepție\, premianți internațional și aliniați la standarde de interpretare și de gândire vest-europene. \nMatei  Ioachimescu\,   flautist   român   de   renume\,   susține   o   activitate concertistică impresionantă\, este recunoscut pentru interpretările repertoriului baroc\, modern\, dar și pentru recitaluri cross-over. Este absolvent al Universității de Muzică din Viena\, oraș unde s-a stabilit. Matei Ioachimescu este laureat al mai multor distincții si burse și colaborează cu unii dintre cei mai interesanți muzicieni din Europa\, în săli de concerte prestigioase. Este invitat ca membru al juriului în competiții internaționale și susține workshop-uri în Austria\, Japonia\, Ungaria\, România și Croația. Din anul 2020\, Matei Ioachimescu predă cursuri de flaut la Facultatea de Muzică și Teatru a Universității de Vest din Timișoara.
URL:https://filarmonicabanatul.ro/evenimente/ritm-in-banat-turneu-insuflu-matei-ioachimescu-the-romanian-flute-ensemble-moldova-noua/
LOCATION:Casa de Cultură Moldova Nouă\, Str. 1 Decembrie 1918\, Caraș Severin\, 325500
ATTACH;FMTTYPE=image/png:https://filarmonicabanatul.ro/wp-content/uploads/2025/03/6-aprilie-Moldova-Noua_ENTERTIX-1200-X-628.png
ORGANIZER;CN="Filarmonica Banatul Timi%C8%99oara":MAILTO:office@filarmonicabanatul.ro
END:VEVENT
END:VCALENDAR