BEGIN:VCALENDAR
VERSION:2.0
PRODID:-//Filarmonica Banatul Timișoara - ECPv6.10.2//NONSGML v1.0//EN
CALSCALE:GREGORIAN
METHOD:PUBLISH
X-WR-CALNAME:Filarmonica Banatul Timișoara
X-ORIGINAL-URL:https://filarmonicabanatul.ro
X-WR-CALDESC:Events for Filarmonica Banatul Timișoara
REFRESH-INTERVAL;VALUE=DURATION:PT1H
X-Robots-Tag:noindex
X-PUBLISHED-TTL:PT1H
BEGIN:VTIMEZONE
TZID:Europe/Bucharest
BEGIN:DAYLIGHT
TZOFFSETFROM:+0200
TZOFFSETTO:+0300
TZNAME:EEST
DTSTART:20250330T010000
END:DAYLIGHT
BEGIN:STANDARD
TZOFFSETFROM:+0300
TZOFFSETTO:+0200
TZNAME:EET
DTSTART:20251026T010000
END:STANDARD
END:VTIMEZONE
BEGIN:VEVENT
DTSTART;TZID=Europe/Bucharest:20250407T200000
DTEND;TZID=Europe/Bucharest:20250503T000000
DTSTAMP:20260421T093122
CREATED:20250408T083740Z
LAST-MODIFIED:20250506T115023Z
UID:7739-1744056000-1746230400@filarmonicabanatul.ro
SUMMARY:Mai la Filarmonică - Timișoara Muzicală | 5 concerte la 150 de lei
DESCRIPTION:Un nou răsfăț muzical\, la un preț special!\nSub titlul „Mai la Filarmonică – Timișoara Muzicală | 5 concerte la 150 de lei”\, ai ocazia să te bucuri\, de fapt\, de 6 evenimente de excepție! Cum? Cumperi acest pachet și ai intrare gratuită la un recital exclusiv!\n\n\n\nConcertele cuprinse în pachet:\n\n2 mai 2025\, ora 19:00\, Sala Capitol – Concert vocal-simfonic inaugural\n\nDirijor: Radu Popa | Soliști: Valentin Răduțiu (violoncel)\, Rut Iovescu (soprană)\, Virginia Maria Onița (soprană)\n\n\n\n\n9 mai 2025\, ora 19:00\, Sala Capitol – Concert simfonic\n\nDirijor: Aleksandar Markovic | Solist: Florin Iliescu (vioară)\n\n\n\n\n16 mai 2025 – Concert vocal-simfonic extraordinar – „Damnațiunea lui Faust” de H. Berlioz | Orchestra și Corul Filarmonicii Banatul Timișoara și Orchestra și Corul Filarmonicii Arad\n\nDirijor: Sasha Goetzel | Soliști: Svetlina Stoyanova (mezzosoprană)\, Yaroslav Abaimov (tenor)\, Virginia Maria Onița (soprană)\n\n\n\n\n23 mai 2025– Concert simfonic\n\nDirijor: Azis Sadikovic | Solist: Bryan Cheng (violoncel)\n\n\n\n\n30 mai 2025 – Concert simfonic de închidere\n\nDirijor: Mykola Diadiura | Solist: Vadim Gluzman (vioară)\n\n\n_________\nEXCLUSIV pentru cumpărătorii pachetului„Mai la Filarmonică – Timișoara Muzicală | 5 concerte la 150 de lei”:\n15 mai 2025\, ora 19:00\, Sala Barocă a Muzeului Național de Artă Timișoara – Recital cameral Romanian String Quartet (Maria Marica – vioară\, Alexandru Marian – vioară\, Cristian Andriș – violă\, Radu Sinaci – violoncel)\n\n\n\nCampania este valabilă între 7 aprilie și 2 mai 2025.\n\n\nLocurile sunt limitate! Cumpără pachetul acum!
URL:https://filarmonicabanatul.ro/evenimente/mai-la-filarmonica-timisoara-muzicala-5-concerte-la-150-de-lei/
LOCATION:Sala Capitol\, Bulevardul Constantin Diaconovici Loga Nr. 2\, Timișoara\, Timiș\, 300022\, România
ATTACH;FMTTYPE=image/png:https://filarmonicabanatul.ro/wp-content/uploads/2025/04/Campanie-Mai_ENTERTIX-1200-X-628.png
ORGANIZER;CN="Filarmonica Banatul Timi%C8%99oara":MAILTO:office@filarmonicabanatul.ro
END:VEVENT
BEGIN:VEVENT
DTSTART;TZID=Europe/Bucharest:20250502T113000
DTEND;TZID=Europe/Bucharest:20250502T123000
DTSTAMP:20260421T093122
CREATED:20250423T062751Z
LAST-MODIFIED:20250501T090728Z
UID:7758-1746185400-1746189000@filarmonicabanatul.ro
SUMMARY:Concert vocal-simfonic educativ | Visul unei nopți de vară (12 - 18 ani)
DESCRIPTION:Din motive obiective\, recitalul educativ a fost anulat. Cei care și-au cumpărat bilete\, le pot utiliza pentru intrarea la un alt recital educativ la alegere din luna mai sau pot solicita returnarea contravalorii biletului. \nMulțumim pentru înțelegere! \n_______________________ \nMagia muzicii și a poveștilor prinde viață în cadrul unui concert vocal-simfonic educativ\, ce va avea loc vineri\, 2 mai 2025\, de la ora 11:30\, la Sala Capitol. Orchestra Simfonică „Remus Georgescu” și Corul „Ion Românu” ale Filarmonicii Banatul din Timișoara\, sub bagheta dirijorului Radu Popa\, invită tinerii iubitori de muzică într-o călătorie sonoră plină de farmec –  „Visul unei nopți de vară” de Felix Mendelssohn-Bartholdy\, inspirată de comedia romantică omonimă a lui William Shakespeare. \nEvenimentul aduce împreună muzica\, teatrul și arta vizuală. Pe scenă vor urca sopranele Rut Iovescu și Virginia Maria Onița\, alături de actorii Daniela Török și Cătălin Ursu\, care vor da viață personajelor cu talent și sensibilitate. \nUn moment special va fi oferit de artista Ana Munteanu\, care va ilustra live\, prin arta desenului în nisip\, scene inspirate din muzică și poveste\, adăugând o notă unică întregii experiențe.
URL:https://filarmonicabanatul.ro/evenimente/concert-vocal-simfonic-educativ-visul-unei-nopti-de-vara-12-18-ani/
LOCATION:Sala Capitol\, Bulevardul Constantin Diaconovici Loga Nr. 2\, Timișoara\, Timiș\, 300022\, România
ATTACH;FMTTYPE=image/png:https://filarmonicabanatul.ro/wp-content/uploads/2025/04/2-mai-Educativ_ENTERTIX-1200-X-6281.png
ORGANIZER;CN="Filarmonica Banatul Timi%C8%99oara":MAILTO:office@filarmonicabanatul.ro
END:VEVENT
BEGIN:VEVENT
DTSTART;TZID=Europe/Bucharest:20250502T190000
DTEND;TZID=Europe/Bucharest:20250502T210000
DTSTAMP:20260421T093122
CREATED:20250407T094502Z
LAST-MODIFIED:20250407T101136Z
UID:7693-1746212400-1746219600@filarmonicabanatul.ro
SUMMARY:Concert vocal-simfonic inaugural | Dirijor: Radu Popa\, soliști: Valentin Răduțiu – violoncel\, Rut Iovescu- soprană\, Virginia Maria Onița - soprană
DESCRIPTION:Concertul vocal-simfonic de vineri\, 2 mai 2025\, deschide ediția a XLIX-a a Festivalului Internațional „Timișoara Muzicală”. De la ora 19:00\, la Sala Capitol\, orchestra condusă de maestrul RADU POPA va interpreta Uvertura la opera Oberon de C. M. von WEBER. \nApoi\, violoncelistul Valentin Răduțiu se alătură artiștilor noștri pentru a prezenta în primă audiție „Schelomo” – Rhapsodie Hébraïque pentru violoncel și orchestră de E. BLOCH. \nVisul unei nopți de vară\, op. 61 de F. MENDELSSOHN-BARTHOLDY încheie programul artistic de vineri. Celebra lucrare va fi interpretată de Orchestra și Corul Filarmonicii\, alături de sopranele RUT IOVESCU și VIRGINIA MARIA ONIȚA. \nCorul va fi pregătit de maestrul IOSIF TODEA. \nVor interpreta actorii DANIELA TÖRÖK și CĂTĂLIN URSU. \nNu ratați un eveniment special\, în care muzica va fi completată de proiecțiile tablourilor realizate live\, în nisip\, de talentata Ana Munteanu\, aducând o dimensiune vizuală unică muzicii interpretate. \n 
URL:https://filarmonicabanatul.ro/evenimente/concert-vocal-simfonic-inaugural-dirijor-radu-popa-solisti-valentin-radutiu-violoncel-rut-iovescu-soprana-virginia-maria-onita-soprana/
LOCATION:Sala Capitol\, Bulevardul Constantin Diaconovici Loga Nr. 2\, Timișoara\, Timiș\, 300022\, România
ATTACH;FMTTYPE=image/png:https://filarmonicabanatul.ro/wp-content/uploads/2025/04/2-mai_ENTERTIX-1200-X-628.png
ORGANIZER;CN="Filarmonica Banatul Timi%C8%99oara":MAILTO:office@filarmonicabanatul.ro
END:VEVENT
END:VCALENDAR