BEGIN:VCALENDAR
VERSION:2.0
PRODID:-//Filarmonica Banatul Timișoara - ECPv6.10.2//NONSGML v1.0//EN
CALSCALE:GREGORIAN
METHOD:PUBLISH
X-WR-CALNAME:Filarmonica Banatul Timișoara
X-ORIGINAL-URL:https://filarmonicabanatul.ro
X-WR-CALDESC:Events for Filarmonica Banatul Timișoara
REFRESH-INTERVAL;VALUE=DURATION:PT1H
X-Robots-Tag:noindex
X-PUBLISHED-TTL:PT1H
BEGIN:VTIMEZONE
TZID:Europe/Bucharest
BEGIN:DAYLIGHT
TZOFFSETFROM:+0200
TZOFFSETTO:+0300
TZNAME:EEST
DTSTART:20250330T010000
END:DAYLIGHT
BEGIN:STANDARD
TZOFFSETFROM:+0300
TZOFFSETTO:+0200
TZNAME:EET
DTSTART:20251026T010000
END:STANDARD
END:VTIMEZONE
BEGIN:VEVENT
DTSTART;TZID=Europe/Bucharest:20250519T190000
DTEND;TZID=Europe/Bucharest:20250519T210000
DTSTAMP:20260421T130208
CREATED:20250408T081307Z
LAST-MODIFIED:20250506T062157Z
UID:7727-1747681200-1747688400@filarmonicabanatul.ro
SUMMARY:Concert simfonic Orchestra Liceului de Artă „Ion Vidu” | Dirijor: Cosmin Hărșian
DESCRIPTION:Tinerii artiști ai Orchestrei Liceului de Artă „Ion Vidu” vă invită la concert\, luni\, 19 mai 2025\, de la ora 19:00\, la Sala Capitol. \nDirijorul concertului va fi Cosmin Hărșian. Soliști: Ștefan Drăghici și Ciprian Virag (clasa a XI-a)\, Darius Cîrstulescu (clasa a X-a)\, Cătălin Catina (clasa a IX-a)\, Luca Igna (clasa a XII-a)\, Robesc Tiutiuc (clasa a X-a). \nÎn program\, lucrări de G. Verdi\, A. Vivaldi\, W. A. Mozart\, C. M. von Weber\, F. David\, H. Wieniawski\, A. Dvořák.
URL:https://filarmonicabanatul.ro/evenimente/concert-simfonic-orchestra-liceului-de-arta-ion-vidu-dirijor-cosmin-harsian/
LOCATION:Sala Capitol\, Bulevardul Constantin Diaconovici Loga Nr. 2\, Timișoara\, Timiș\, 300022\, România
ATTACH;FMTTYPE=image/png:https://filarmonicabanatul.ro/wp-content/uploads/2025/04/19-mai_ENTERTIX-1200-X-628.png
ORGANIZER;CN="Filarmonica Banatul Timi%C8%99oara":MAILTO:office@filarmonicabanatul.ro
END:VEVENT
END:VCALENDAR