BEGIN:VCALENDAR
VERSION:2.0
PRODID:-//Filarmonica Banatul Timișoara - ECPv6.10.2//NONSGML v1.0//EN
CALSCALE:GREGORIAN
METHOD:PUBLISH
X-ORIGINAL-URL:https://filarmonicabanatul.ro
X-WR-CALDESC:Events for Filarmonica Banatul Timișoara
REFRESH-INTERVAL;VALUE=DURATION:PT1H
X-Robots-Tag:noindex
X-PUBLISHED-TTL:PT1H
BEGIN:VTIMEZONE
TZID:Europe/Bucharest
BEGIN:DAYLIGHT
TZOFFSETFROM:+0200
TZOFFSETTO:+0300
TZNAME:EEST
DTSTART:20250330T010000
END:DAYLIGHT
BEGIN:STANDARD
TZOFFSETFROM:+0300
TZOFFSETTO:+0200
TZNAME:EET
DTSTART:20251026T010000
END:STANDARD
END:VTIMEZONE
BEGIN:VEVENT
DTSTART;TZID=Europe/Bucharest:20250612T190000
DTEND;TZID=Europe/Bucharest:20250612T203000
DTSTAMP:20260421T131336
CREATED:20250520T102518Z
LAST-MODIFIED:20250611T083447Z
UID:7853-1749754800-1749760200@filarmonicabanatul.ro
SUMMARY:Recital de pian - Imagine Belle Époque | SÎNZIANA MIRCEA - pian\, invitată: RAISA MIHAI - chitară
DESCRIPTION:Un recital de excepție\, ce aduce în prim-plan lucrări semnate de compozitori renumiți precum D. E. Elgar\, B. Marcello\, F. Liszt\, O. Respighi\, E. Morricone\, A. Piazzolla\, C. Orff\, alături de lucrări ale S. Mircea și R. Mihai. \nAcest eveniment este o incursiune în rafinamentul unei perioade legendare\, „Belle Époque”\, în cadrul unui turneu internațional al pianistei Sinziana Mircea.
URL:https://filarmonicabanatul.ro/evenimente/recital-de-pian-imagine-belle-epoque-sinziana-mircea-pian-invitata-raisa-mihai-chitara/
LOCATION:Timiș
ATTACH;FMTTYPE=image/png:https://filarmonicabanatul.ro/wp-content/uploads/2025/05/12-iunie_ENTERTIX-1200-X-628.png
ORGANIZER;CN="Filarmonica Banatul Timi%C8%99oara":MAILTO:office@filarmonicabanatul.ro
END:VEVENT
END:VCALENDAR