BEGIN:VCALENDAR
VERSION:2.0
PRODID:-//Filarmonica Banatul Timișoara - ECPv6.10.2//NONSGML v1.0//EN
CALSCALE:GREGORIAN
METHOD:PUBLISH
X-WR-CALNAME:Filarmonica Banatul Timișoara
X-ORIGINAL-URL:https://filarmonicabanatul.ro
X-WR-CALDESC:Events for Filarmonica Banatul Timișoara
REFRESH-INTERVAL;VALUE=DURATION:PT1H
X-Robots-Tag:noindex
X-PUBLISHED-TTL:PT1H
BEGIN:VTIMEZONE
TZID:Europe/Bucharest
BEGIN:DAYLIGHT
TZOFFSETFROM:+0200
TZOFFSETTO:+0300
TZNAME:EEST
DTSTART:20250330T010000
END:DAYLIGHT
BEGIN:STANDARD
TZOFFSETFROM:+0300
TZOFFSETTO:+0200
TZNAME:EET
DTSTART:20251026T010000
END:STANDARD
END:VTIMEZONE
BEGIN:VEVENT
DTSTART;TZID=Europe/Bucharest:20250613T190000
DTEND;TZID=Europe/Bucharest:20250613T210000
DTSTAMP:20260421T130533
CREATED:20250520T103122Z
LAST-MODIFIED:20250613T071243Z
UID:7855-1749841200-1749848400@filarmonicabanatul.ro
SUMMARY:A. DVOŘÁK ȘI J. BRAHMS | Orchestra simfonică a Filarmoncii Banatul Timișoara | Dirijor: RADU PAPONIU\, solist: IONUȚ PODGOREANU - corn
DESCRIPTION:Vă invităm la un concert simfonic de excepție\, în care veți audia lucrări de A. Dvořák și J. Brahms. Programul include „Legendele nr. 1\, 3 și 10\, op. 59” de Dvořák\, Concertul pentru corn și orchestră în mi bemol major\, C 49 de A. Rosetti\, interpretat de solistul Ionuț Podgoreanu\, și „Simfonia nr. 3 în fa major\, op. 90” de Brahms. \nSub conducerea dirijorului Radu Paponiu\, acest concert promite o seară plină de eleganță și intensitate muzicală\, combinând bogăția sonorităților simfonice cu rafinamentul virtuozității interpretative.
URL:https://filarmonicabanatul.ro/evenimente/a-dvorak-si-j-brahms-orchestra-simfonica-a-filarmoncii-banatul-timisoara-dirijor-radu-paponiu-solist-ionut-podgoreanu-corn/
LOCATION:Sala Capitol\, Bulevardul Constantin Diaconovici Loga Nr. 2\, Timișoara\, Timiș\, 300022\, România
ATTACH;FMTTYPE=image/png:https://filarmonicabanatul.ro/wp-content/uploads/2025/05/13-iunie_ENTERTIX-1200-X-6281.png
ORGANIZER;CN="Filarmonica Banatul Timi%C8%99oara":MAILTO:office@filarmonicabanatul.ro
END:VEVENT
END:VCALENDAR