BEGIN:VCALENDAR
VERSION:2.0
PRODID:-//Filarmonica Banatul Timișoara - ECPv6.10.2//NONSGML v1.0//EN
CALSCALE:GREGORIAN
METHOD:PUBLISH
X-WR-CALNAME:Filarmonica Banatul Timișoara
X-ORIGINAL-URL:https://filarmonicabanatul.ro
X-WR-CALDESC:Events for Filarmonica Banatul Timișoara
REFRESH-INTERVAL;VALUE=DURATION:PT1H
X-Robots-Tag:noindex
X-PUBLISHED-TTL:PT1H
BEGIN:VTIMEZONE
TZID:Europe/Bucharest
BEGIN:DAYLIGHT
TZOFFSETFROM:+0200
TZOFFSETTO:+0300
TZNAME:EEST
DTSTART:20250330T010000
END:DAYLIGHT
BEGIN:STANDARD
TZOFFSETFROM:+0300
TZOFFSETTO:+0200
TZNAME:EET
DTSTART:20251026T010000
END:STANDARD
END:VTIMEZONE
BEGIN:VEVENT
DTSTART;TZID=Europe/Bucharest:20250619T190000
DTEND;TZID=Europe/Bucharest:20250619T203000
DTSTAMP:20260421T131135
CREATED:20250520T110710Z
LAST-MODIFIED:20250619T090141Z
UID:7861-1750359600-1750365000@filarmonicabanatul.ro
SUMMARY:20th Century Piano Pieces | Recital de pian Ioan Mihăilescu
DESCRIPTION:Frumusețea creațiilor pianistice ale secolului al XX-lea ne va fi dezvăluită prin intermediul unui recital expresiv\, susținut de talentatul pianist Ioan Mihăilescu. Nu ratați ocazia de a experimenta sonorități celebre într-o interpretare maiestuoasă\, joi\, 19 iunie 2025\, de la ora 19:00\, la Sinagoga din Cetate. În program\, lucrări de C. DEBUSSY\, A. GINASTERA\, P. PÁL\, G. ENESCU.
URL:https://filarmonicabanatul.ro/evenimente/recital-cameral-lacrio-piano-trio-cristian-ciolacu-clarinet-laurentia-cocieru-vioara-ioan-mihailescu-pian/
LOCATION:Sinagoga din Cetate\, Str. Mărășești\, nr. 6\, Timișoara\, Timiș\, România
ATTACH;FMTTYPE=image/png:https://filarmonicabanatul.ro/wp-content/uploads/2025/05/19-iunie_ENTERTIX-1200-X-628-sold-out.png
END:VEVENT
END:VCALENDAR