BEGIN:VCALENDAR
VERSION:2.0
PRODID:-//Filarmonica Banatul Timișoara - ECPv6.10.2//NONSGML v1.0//EN
CALSCALE:GREGORIAN
METHOD:PUBLISH
X-WR-CALNAME:Filarmonica Banatul Timișoara
X-ORIGINAL-URL:https://filarmonicabanatul.ro
X-WR-CALDESC:Events for Filarmonica Banatul Timișoara
REFRESH-INTERVAL;VALUE=DURATION:PT1H
X-Robots-Tag:noindex
X-PUBLISHED-TTL:PT1H
BEGIN:VTIMEZONE
TZID:Europe/Bucharest
BEGIN:DAYLIGHT
TZOFFSETFROM:+0200
TZOFFSETTO:+0300
TZNAME:EEST
DTSTART:20250330T010000
END:DAYLIGHT
BEGIN:STANDARD
TZOFFSETFROM:+0300
TZOFFSETTO:+0200
TZNAME:EET
DTSTART:20251026T010000
END:STANDARD
END:VTIMEZONE
BEGIN:VEVENT
DTSTART;TZID=Europe/Bucharest:20250620T190000
DTEND;TZID=Europe/Bucharest:20250620T210000
DTSTAMP:20260421T130538
CREATED:20250520T112019Z
LAST-MODIFIED:20250620T130518Z
UID:7863-1750446000-1750453200@filarmonicabanatul.ro
SUMMARY:Închiderea Stagiunii 2024/25 - Rapsodia română nr. 2 și Simfonia nr. 3 de GEORGE ENESCU | Dirijor: GABRIEL BEBEȘELEA
DESCRIPTION:Toate biletele pentru acest eveniment au fost vândute! Vă mulțumim pentru interes! \n____ \nÎn an aniversar\, când se împlinesc 70 de ani de la moartea lui George ENESCU\, Filarmonica Banatul Timișoara încheie Stagiunea 2024/25 cu un concert vocal-simfonic extraordinar! \nSub bagheta dirijorului Gabriel Bebeșelea\, deschidem programul artistic cu Rapsodia română nr. 2 în re major\, op. 11 de George Enescu. Apoi\, artiștii Orchestrei simfonice și Corului Filarmonicii Banatul\, alături de Corul pe voci egale al Liceului de Artă „Ion Vidu” vor interpreta Simfonia nr. 3 în do major\, op. 21 scrisă de marele nostru compozitor. Un program de referință\, ce reunește virtuozitatea orchestrei și a corului\, într-o lucrare emblematică din patrimoniul muzical românesc. \nCorurile vor fi pregătite de IOSIF TODEA și MARIA GYURIS. \nO închidere grandioasă de stagiune pe care vă îndemnăm să nu o ratați!
URL:https://filarmonicabanatul.ro/evenimente/inchiderea-stagiunii-2024-25-simfonia-nr-3-de-g-enescu-dirijor-gabriel-bebeselea/
LOCATION:Sala Capitol\, Bulevardul Constantin Diaconovici Loga Nr. 2\, Timișoara\, Timiș\, 300022\, România
ATTACH;FMTTYPE=image/png:https://filarmonicabanatul.ro/wp-content/uploads/2025/05/20-iunie-ENESCU-Sold-Out_ENTERTIX-1200-X-628.png
ORGANIZER;CN="Filarmonica Banatul Timi%C8%99oara":MAILTO:office@filarmonicabanatul.ro
END:VEVENT
END:VCALENDAR