BEGIN:VCALENDAR
VERSION:2.0
PRODID:-//Filarmonica Banatul Timișoara - ECPv6.10.2//NONSGML v1.0//EN
CALSCALE:GREGORIAN
METHOD:PUBLISH
X-WR-CALNAME:Filarmonica Banatul Timișoara
X-ORIGINAL-URL:https://filarmonicabanatul.ro
X-WR-CALDESC:Events for Filarmonica Banatul Timișoara
REFRESH-INTERVAL;VALUE=DURATION:PT1H
X-Robots-Tag:noindex
X-PUBLISHED-TTL:PT1H
BEGIN:VTIMEZONE
TZID:Europe/Bucharest
BEGIN:DAYLIGHT
TZOFFSETFROM:+0200
TZOFFSETTO:+0300
TZNAME:EEST
DTSTART:20250330T010000
END:DAYLIGHT
BEGIN:STANDARD
TZOFFSETFROM:+0300
TZOFFSETTO:+0200
TZNAME:EET
DTSTART:20251026T010000
END:STANDARD
END:VTIMEZONE
BEGIN:VEVENT
DTSTART;TZID=Europe/Bucharest:20250910T200000
DTEND;TZID=Europe/Bucharest:20250912T000000
DTSTAMP:20260419T175538
CREATED:20250910T065519Z
LAST-MODIFIED:20250910T071102Z
UID:8306-1757534400-1757635200@filarmonicabanatul.ro
SUMMARY:Eufonia | Musical Optimism x3
DESCRIPTION:Trei seri memorabile. Trei locații diferite. Un singur bilet – 120 lei\n\n\nTrăiește Festivalul Eufonia 2025 în toată splendoarea lui\, explorând muzica în trei spații speciale din Timișoara:\n\n\n\n11 septembrie\, 19:30 – Concert extraordinar „EUROPA” | Domul Romano-Catolic\, Piața Unirii\nMuzică barocă într-unul dintre cele mai impresionante spații sacre ale orașului.\n\n\n\n24 septembrie\, 19:00 – Where Brass meets the Sky | Curtea interioară a Centrului de Proiecte\nSunet de alamă\, lumini de apus și atmosferă relaxată în aer liber.\n\n\n\n28 septembrie\, 19:00 – Concert extraordinar de închidere „Sunny Side Up” | Sala Capitol\nConcertul final al ediției Eufonia 2025. Nouă artiști internaționali\, emoție și energie bună într-o seară de încheiere cu totul specială.\n\n\n\nPachet promoțional valabil până la data de 11 septembrie 2025\, în limita locurilor disponibile.
URL:https://filarmonicabanatul.ro/evenimente/eufonia-musical-optimism-x3/
LOCATION:Domul Romano-Catolic Timișoara\, Piața Unirii Nr. 12\, Timișoara\, timiș\, România
ATTACH;FMTTYPE=image/png:https://filarmonicabanatul.ro/wp-content/uploads/2025/09/Eufonia-CAMPANIE_ENTERTIX-1200-X-628.png
ORGANIZER;CN="Filarmonica Banatul Timi%C8%99oara":MAILTO:office@filarmonicabanatul.ro
END:VEVENT
BEGIN:VEVENT
DTSTART;TZID=Europe/Bucharest:20250911T193000
DTEND;TZID=Europe/Bucharest:20250911T210000
DTSTAMP:20260419T175538
CREATED:20250729T135348Z
LAST-MODIFIED:20250729T135348Z
UID:8094-1757619000-1757624400@filarmonicabanatul.ro
SUMMARY:Concert extraordinar EUROPA
DESCRIPTION:Bogăția culturală a Europei va fi celebrată prin intermediul unui concert marca Eufonia Festival\, în minunatul Dom Romano-Catolic din Piața Unirii din Timișoara. Orchestra Eufonia Baroque Academy\, coordonată de remarcabilul violonist german Bernhard Forck și împreună cu Vlad Popescu (vioară)\, Anna-Maria Wünsch (violă)\, Florian Schmidt Bartha (violoncel)\, Diego Cantalupi (lăută) și Mimoe Todo (clavecin) vă invită să vă lăsați cuprinși de armonia lucrărilor compozitorilor H. Purcell\, U. Wilhelm van Wassenaer\, A. Vivaldi\, G. P. Telemann\, J. B. Lully. \nNu ratați un concert cu un puternic mesaj optimist\, în care muzica străbate granițe\, unește oameni și îmbogățește suflete.
URL:https://filarmonicabanatul.ro/evenimente/concert-extraordinar-europa/
LOCATION:Domul Romano-Catolic Timișoara\, Piața Unirii Nr. 12\, Timișoara\, timiș\, România
ATTACH;FMTTYPE=image/png:https://filarmonicabanatul.ro/wp-content/uploads/2025/07/Eufonia-Baroque-11-septembrie_ENTERTIX-1200-X-628.png
ORGANIZER;CN="Filarmonica Banatul Timi%C8%99oara":MAILTO:office@filarmonicabanatul.ro
END:VEVENT
END:VCALENDAR