BEGIN:VCALENDAR
VERSION:2.0
PRODID:-//Filarmonica Banatul Timișoara - ECPv6.10.2//NONSGML v1.0//EN
CALSCALE:GREGORIAN
METHOD:PUBLISH
X-ORIGINAL-URL:https://filarmonicabanatul.ro
X-WR-CALDESC:Events for Filarmonica Banatul Timișoara
REFRESH-INTERVAL;VALUE=DURATION:PT1H
X-Robots-Tag:noindex
X-PUBLISHED-TTL:PT1H
BEGIN:VTIMEZONE
TZID:Europe/Bucharest
BEGIN:DAYLIGHT
TZOFFSETFROM:+0200
TZOFFSETTO:+0300
TZNAME:EEST
DTSTART:20250330T010000
END:DAYLIGHT
BEGIN:STANDARD
TZOFFSETFROM:+0300
TZOFFSETTO:+0200
TZNAME:EET
DTSTART:20251026T010000
END:STANDARD
END:VTIMEZONE
BEGIN:VEVENT
DTSTART;TZID=Europe/Bucharest:20250929T080000
DTEND;TZID=Europe/Bucharest:20251004T000000
DTSTAMP:20260421T130539
CREATED:20250929T104131Z
LAST-MODIFIED:20250929T104131Z
UID:8494-1759132800-1759536000@filarmonicabanatul.ro
SUMMARY:Abonament octombrie - decembrie | Stagiunea 2025-2026
DESCRIPTION:Suntem încântați să vă prezentăm abonamentul Filarmonicii Banatul Timișoara pentru perioada octombrie – decembrie 2025!\n\n\nPregătiți-vă pentru 12 seri de experiențe muzicale memorabile\, ce vă vor purta prin capodopere și interpretări remarcabile.\n\n\nAbonamentul cuprinde concertele din datele: 3\, 10\, 17\, 24\, 31 octombrie\, 7\, 14\, 21\, 28 noiembrie și 5\, 12 și 17 decembrie 2025.\n____\n\n\nLocul selectat inițial este rezervat automat la toate concertele\, cu excepția celor din 3 octombrie și 17 decembrie.\nPentru aceste două seri speciale veți primi locurile aferente pe pe e-mail\, după achiziționarea abonamentului.\n\n\nPreț abonament: 500 lei
URL:https://filarmonicabanatul.ro/evenimente/abonament-octombrie-decembrie-stagiunea-2025-2026/
LOCATION:Sala Capitol\, Bulevardul Constantin Diaconovici Loga Nr. 2\, Timișoara\, Timiș\, 300022\, România
ATTACH;FMTTYPE=image/png:https://filarmonicabanatul.ro/wp-content/uploads/2025/09/Abonamente_ENTERTIX-1200-X-628.png
ORGANIZER;CN="Filarmonica Banatul Timi%C8%99oara":MAILTO:office@filarmonicabanatul.ro
END:VEVENT
BEGIN:VEVENT
DTSTART;TZID=Europe/Bucharest:20251001T190000
DTEND;TZID=Europe/Bucharest:20251001T203000
DTSTAMP:20260421T130539
CREATED:20250919T082922Z
LAST-MODIFIED:20250925T081822Z
UID:8411-1759345200-1759350600@filarmonicabanatul.ro
SUMMARY:ACCADEMIA DEI CAMERISTI | Recital cameral
DESCRIPTION:Vă invităm miercuri\, 1 octombrie 2025\, la ora 19:00\, în Sala „Mihai Perian” a Liceului de Artă „Ion Vidu”\, la un recital cameral de excepție susținut de ansamblul Accademia dei Cameristi. \nPe scenă vor urca Christian Sebastianutto și Paride Losacco la vioră\, Benedetta Bucci la violă\, Erica Piccotti la violoncel și Emanuele Torquati la pian — artiști ce promit o experiență artistică de neuitat. \nÎn program\, lucrări de M. CASTELNUOVO-TEDESCO și D. ȘOSTAKOVICI. \nEveniment realizat cu sprijinul Institutului Italian de Cultură București.
URL:https://filarmonicabanatul.ro/evenimente/academia-dei-cameristi-recital-cameral/
LOCATION:Sala „Mihai Perian” a Liceului de Arta „Ion Vidu”\, Strada Cluj Nr. 12\, Timișoara\, Timiș\, 300576\, România
ATTACH;FMTTYPE=image/png:https://filarmonicabanatul.ro/wp-content/uploads/2025/09/1-octombrie_ENTERTIX-1200-X-6281.png
ORGANIZER;CN="Filarmonica Banatul Timi%C8%99oara":MAILTO:office@filarmonicabanatul.ro
END:VEVENT
END:VCALENDAR