BEGIN:VCALENDAR
VERSION:2.0
PRODID:-//Filarmonica Banatul Timișoara - ECPv6.10.2//NONSGML v1.0//EN
CALSCALE:GREGORIAN
METHOD:PUBLISH
X-WR-CALNAME:Filarmonica Banatul Timișoara
X-ORIGINAL-URL:https://filarmonicabanatul.ro
X-WR-CALDESC:Events for Filarmonica Banatul Timișoara
REFRESH-INTERVAL;VALUE=DURATION:PT1H
X-Robots-Tag:noindex
X-PUBLISHED-TTL:PT1H
BEGIN:VTIMEZONE
TZID:Europe/Bucharest
BEGIN:DAYLIGHT
TZOFFSETFROM:+0200
TZOFFSETTO:+0300
TZNAME:EEST
DTSTART:20250330T010000
END:DAYLIGHT
BEGIN:STANDARD
TZOFFSETFROM:+0300
TZOFFSETTO:+0200
TZNAME:EET
DTSTART:20251026T010000
END:STANDARD
END:VTIMEZONE
BEGIN:VEVENT
DTSTART;TZID=Europe/Bucharest:20251027T080000
DTEND;TZID=Europe/Bucharest:20251106T000000
DTSTAMP:20260419T194251
CREATED:20251027T103425Z
LAST-MODIFIED:20251105T081833Z
UID:8666-1761552000-1762387200@filarmonicabanatul.ro
SUMMARY:Where music meets quiet. O experiență Filarmonica Banatul & Hotel Atlas
DESCRIPTION:Filarmonica Banatul Timișoara\, în parteneriat cu Hotel Atlas\, lansează\, în premieră în România pentru o instituție muzicală de cultură\, un pachet promoțional ce combină muzica clasică și serviciile hoteliere de elită. În cadrul Stagiunii Experiențe muzicale\, inițiativa deschide o nouă perspectivă asupra modului în care experiența muzicală poate fi extinsă dincolo de sala de concert – în spațiul relaxării și al regăsirii personale. \nSub titlul „Where music meets quiet”\, publicul este invitat să participe la trei seri de muzică clasică la prețul promoțional de 120 de lei\, în decembrie. \nPachetul pus la dispoziție de către Filarmonica Banatul și Hotel Atlas poate fi achiziționat pentru sine\, dar poate fi și un cadou special pentru cineva drag\, în decembrie\, luna în care ne reamintim bucuria gesturilor simple și frumusețea momentelor de liniște. \nTrei seri de muzică pentru suflet \n\nSYMPHONY OF VICTORY\n\n5 decembrie\, ora 19:00 – Sala Capitol \nOrchestra simfonică a Filarmonicii Banatul Timișoara\nDirijor: Daniel Raiskin | Solist: Simon Trpčeski – pian\nUn concert dedicat puterii de a renaște prin muzică\, cu lucrări ce celebrează triumful și sensibilitatea artistică. \n\nART OF BACH\n\n12 decembrie\, ora 19:00 – Sala Capitol \nOrchestra simfonică a Filarmonicii Banatul Timișoara \nDirijor: Gabriel Bebeșelea \nO incursiune în perfecțiunea barocului prin geniul lui Johann Sebastian Bach. \nMuzica devine un prilej de introspecție\, echilibru și pace interioară. \n  \n\nRECVIEM IN MEMORIAM\n\n17 decembrie\, ora 19:00 – Sala Capitol \nDirijor: Hermann Szabolcs \nConcert dedicat victimelor comunismului – un omagiu solemn și emoționant. \nBeneficiile achiziționării pachetului promoțional  \n\nAchiziționarea pachetului promoțional garantează cumpărătorului aceleași locuri la fiecare dintre cele trei concerte\nParticipanții la evenimentele culturale incluse în pachetul promoțional pot participa la o tragere la sorți pentru un weekend de relaxare la Hotel Atlas\nCumpărătorul se poate bucura împreună cu cineva drag de o cameră dublă cu mic dejun inclus\nCumpărătorul are ocazia de a alege între două weekenduri de cazare: 19–21 decembrie sau 26–28 decembrie.\n\nCampania este valabilă până la data de 5 decembrie\, 2025\, în limita locurilor disponibile. \nTragerea la sorți pentru desemnarea unui câștigător la avea loc în data de 8 decembrie. \n____ \nHotel Atlas este un hotel de patru stele din Timișoara\, situat vizavi de Piața Sfântul Gheorghe\, care combină farmecul arhitectural al secolului al XVIII-a cu confortul modern.
URL:https://filarmonicabanatul.ro/evenimente/where-music-meets-quiet-o-experienta-filarmonica-banatul-hotel-atlas/
LOCATION:Sala Capitol\, Bulevardul Constantin Diaconovici Loga Nr. 2\, Timișoara\, Timiș\, 300022\, România
ATTACH;FMTTYPE=image/png:https://filarmonicabanatul.ro/wp-content/uploads/2025/10/Campanie-Christmas_ENTERTIX-1200-X-628-copy-8.png
ORGANIZER;CN="Filarmonica Banatul Timi%C8%99oara":MAILTO:office@filarmonicabanatul.ro
END:VEVENT
BEGIN:VEVENT
DTSTART;TZID=Europe/Bucharest:20251028T190000
DTEND;TZID=Europe/Bucharest:20251028T210000
DTSTAMP:20260419T194251
CREATED:20251009T090727Z
LAST-MODIFIED:20251014T112642Z
UID:8588-1761678000-1761685200@filarmonicabanatul.ro
SUMMARY:Philacademique | Recital cameral/ vocal
DESCRIPTION:În cadrul ediției a XII-a „Burlesquisse” a Festivalului-Concurs Internațional „Remus Georgescu”\, recitalul Philacademique reunește lucrări semnate de D. Dediu\, D. Bălan\, P. Glass\, D. Charke\, C. Pop\, K. Saariaho\, L. Manolache\, G. Kurtág\, A. Pärt\, A. Domuța și T. Gubatz. \nVor evolua studenți talentați ai Facultății de Muzică și Teatru\, alături de artiști ai Filarmonicii Banatul Timișoara\, care vor aduce un plus de prospețime și energie interpretărilor din program.
URL:https://filarmonicabanatul.ro/evenimente/philacademique-recital-cameral-vocal/
LOCATION:Sala Capitol\, Bulevardul Constantin Diaconovici Loga Nr. 2\, Timișoara\, Timiș\, 300022\, România
ATTACH;FMTTYPE=image/png:https://filarmonicabanatul.ro/wp-content/uploads/2025/10/28-octombrie-RG_ENTERTIX-1200-X-628.png
ORGANIZER;CN="Filarmonica Banatul Timi%C8%99oara":MAILTO:office@filarmonicabanatul.ro
END:VEVENT
END:VCALENDAR