BEGIN:VCALENDAR
VERSION:2.0
PRODID:-//Filarmonica Banatul Timișoara - ECPv6.10.2//NONSGML v1.0//EN
CALSCALE:GREGORIAN
METHOD:PUBLISH
X-WR-CALNAME:Filarmonica Banatul Timișoara
X-ORIGINAL-URL:https://filarmonicabanatul.ro
X-WR-CALDESC:Events for Filarmonica Banatul Timișoara
REFRESH-INTERVAL;VALUE=DURATION:PT1H
X-Robots-Tag:noindex
X-PUBLISHED-TTL:PT1H
BEGIN:VTIMEZONE
TZID:Europe/Bucharest
BEGIN:DAYLIGHT
TZOFFSETFROM:+0200
TZOFFSETTO:+0300
TZNAME:EEST
DTSTART:20260329T010000
END:DAYLIGHT
BEGIN:STANDARD
TZOFFSETFROM:+0300
TZOFFSETTO:+0200
TZNAME:EET
DTSTART:20261025T010000
END:STANDARD
END:VTIMEZONE
BEGIN:VEVENT
DTSTART;TZID=Europe/Bucharest:20260115T190000
DTEND;TZID=Europe/Bucharest:20260115T210000
DTSTAMP:20260420T031053
CREATED:20251121T124226Z
LAST-MODIFIED:20260112T080152Z
UID:8781-1768503600-1768510800@filarmonicabanatul.ro
SUMMARY:CONCERT CORAL | Corul „Ion Românu” al Filarmonicii Banatul | Dirijor: Iosif Todea
DESCRIPTION:O seară dedicată frumuseții și expresivității muzicii corale românești\, prezentată de Corul Filarmonicii\, sub bagheta dirijorului Iosif Todea. Spectatorii vor putea descoperi armonii bogate\, interpretări pasionale și tradiția corală autentică\, într-un concert plin de sensibilitate și profunzime artistică. \nUn eveniment ce onorează cultura muzicală românească și oferă o experiență sonoră emoționantă\, perfectă pentru iubitorii de muzică corală.
URL:https://filarmonicabanatul.ro/evenimente/concert-coral-corul-ion-romanu-al-filarmonicii-banatul-dirijor-iosif-todea/
LOCATION:Sala Capitol\, Bulevardul Constantin Diaconovici Loga Nr. 2\, Timișoara\, Timiș\, 300022\, România
ATTACH;FMTTYPE=image/png:https://filarmonicabanatul.ro/wp-content/uploads/2025/11/15-ianuarie_ENTERTIX-1200-X-628.png
ORGANIZER;CN="Filarmonica Banatul Timi%C8%99oara":MAILTO:office@filarmonicabanatul.ro
END:VEVENT
END:VCALENDAR