BEGIN:VCALENDAR
VERSION:2.0
PRODID:-//Filarmonica Banatul Timișoara - ECPv6.10.2//NONSGML v1.0//EN
CALSCALE:GREGORIAN
METHOD:PUBLISH
X-ORIGINAL-URL:https://filarmonicabanatul.ro
X-WR-CALDESC:Events for Filarmonica Banatul Timișoara
REFRESH-INTERVAL;VALUE=DURATION:PT1H
X-Robots-Tag:noindex
X-PUBLISHED-TTL:PT1H
BEGIN:VTIMEZONE
TZID:Europe/Bucharest
BEGIN:DAYLIGHT
TZOFFSETFROM:+0200
TZOFFSETTO:+0300
TZNAME:EEST
DTSTART:20260329T010000
END:DAYLIGHT
BEGIN:STANDARD
TZOFFSETFROM:+0300
TZOFFSETTO:+0200
TZNAME:EET
DTSTART:20261025T010000
END:STANDARD
END:VTIMEZONE
BEGIN:VEVENT
DTSTART;TZID=Europe/Bucharest:20260308T190000
DTEND;TZID=Europe/Bucharest:20260308T200000
DTSTAMP:20260419T232745
CREATED:20260216T124221Z
LAST-MODIFIED:20260225T072102Z
UID:9183-1772996400-1773000000@filarmonicabanatul.ro
SUMMARY:CONCERT PE ÎNTUNERIC | Marcel Lazăr - pian
DESCRIPTION:Toate biletele pentru acest eveniment au fost vândute. Vă mulțumim pentru interes! \n______ \nCu ocazia zilei de 8 Martie\, vă invităm la un eveniment special care schimbă perspectiva asupra modului în care ascultăm muzica. În absența luminii\, atenția se mută complet către sunet\, iar fiecare detaliu pianistic devine mai intens\, mai personal\, mai prezent. Publicul este invitat să trăiască muzica într-un mod direct\, concentrat și profund\, îtr-un concept creat de Moldo Crescendo. \nPianistul Marcel Lazăr propune un parcurs sonor care traversează rafinamentul impresionist al lui Claude Debussy și Maurice Ravel\, forța expresivă a lui Ludwig van Beethoven\, lirismul lui Frédéric Chopin și atmosfera contemplativă a lui Erik Satie. \nÎn întuneric\, muzica este cea mai frumoasă lumină. \n 
URL:https://filarmonicabanatul.ro/evenimente/concert-pe-intuneric-marcel-lazar-pian/
LOCATION:Sala „Mihai Perian” a Liceului de Arta „Ion Vidu”\, Strada Cluj Nr. 12\, Timișoara\, Timiș\, 300576\, România
ATTACH;FMTTYPE=image/png:https://filarmonicabanatul.ro/wp-content/uploads/2026/02/8-martie-Concert-pe-intuneric1200-X-628.png
ORGANIZER;CN="Filarmonica Banatul Timi%C8%99oara":MAILTO:office@filarmonicabanatul.ro
END:VEVENT
END:VCALENDAR