BEGIN:VCALENDAR
VERSION:2.0
PRODID:-//Filarmonica Banatul Timișoara - ECPv6.10.2//NONSGML v1.0//EN
CALSCALE:GREGORIAN
METHOD:PUBLISH
X-ORIGINAL-URL:https://filarmonicabanatul.ro
X-WR-CALDESC:Events for Filarmonica Banatul Timișoara
REFRESH-INTERVAL;VALUE=DURATION:PT1H
X-Robots-Tag:noindex
X-PUBLISHED-TTL:PT1H
BEGIN:VTIMEZONE
TZID:Europe/Bucharest
BEGIN:DAYLIGHT
TZOFFSETFROM:+0200
TZOFFSETTO:+0300
TZNAME:EEST
DTSTART:20250330T010000
END:DAYLIGHT
BEGIN:STANDARD
TZOFFSETFROM:+0300
TZOFFSETTO:+0200
TZNAME:EET
DTSTART:20251026T010000
END:STANDARD
BEGIN:DAYLIGHT
TZOFFSETFROM:+0200
TZOFFSETTO:+0300
TZNAME:EEST
DTSTART:20260329T010000
END:DAYLIGHT
BEGIN:STANDARD
TZOFFSETFROM:+0300
TZOFFSETTO:+0200
TZNAME:EET
DTSTART:20261025T010000
END:STANDARD
END:VTIMEZONE
BEGIN:VEVENT
DTSTART;TZID=Europe/Bucharest:20251203T150000
DTEND;TZID=Europe/Bucharest:20251203T160000
DTSTAMP:20260419T213000
CREATED:20251107T102137Z
LAST-MODIFIED:20251107T102137Z
UID:8723-1764774000-1764777600@filarmonicabanatul.ro
SUMMARY:Christmas Blessings | Concert coral educativ (7 - 12 ani)
DESCRIPTION:Filarmonica Banatul Timișoara îi invită pe cei mici la concertul coral educativ CHRISTMAS BLESSINGS\, un eveniment dedicat copiilor cu vârste între 7 și 12 ani. \nSub conducerea dirijorului Iosif Todea\, Corul „Ion Românu” va interpreta un program de colinde și lucrări corale de Crăciun\, într-o atmosferă caldă\, luminoasă și plină de farmecul sărbătorilor. \nSoliști:Ana Kui – mezzosopranăAlexandru Șuca – baritonEugen Goldiș – bariton \nEvenimentul va fi moderat de Adrian Jivan\, care îi va ghida pe copii în descoperirea universului muzicii corale și a frumuseții cântecelor de Crăciun. \n 
URL:https://filarmonicabanatul.ro/evenimente/christmas-blessings-concert-coral-educativ-7-12-ani/
LOCATION:Sala Capitol\, Bulevardul Constantin Diaconovici Loga Nr. 2\, Timișoara\, Timiș\, 300022\, România
ATTACH;FMTTYPE=image/png:https://filarmonicabanatul.ro/wp-content/uploads/2025/11/03-Decembrie-Educativ_ENTERTIX-1200-X-628.png
ORGANIZER;CN="Filarmonica Banatul Timi%C8%99oara":MAILTO:office@filarmonicabanatul.ro
END:VEVENT
BEGIN:VEVENT
DTSTART;TZID=Europe/Bucharest:20251205T190000
DTEND;TZID=Europe/Bucharest:20251205T210000
DTSTAMP:20260419T213000
CREATED:20251008T100456Z
LAST-MODIFIED:20251118T120805Z
UID:8572-1764961200-1764968400@filarmonicabanatul.ro
SUMMARY:SYMPHONY OF VICTORY | Orchestra simfonică a Filarmonicii Banatul Timișoara | Dirijor: DANIEL RAISKIN\, solist: SIMON TRPČESKI
DESCRIPTION:Sub bagheta dirijorului Daniel Raiskin\, Orchestra simfonică a Filarmonicii Banatul Timișoara vă invită la un concert vibrant\, plin de culoare\, energie și rafinament. Solistul serii este excepționalul pianist Simon Trpčeski\, unul dintre cei mai apreciați artiști ai generației sale\, care va aduce la viață una dintre cele mai spectaculoase lucrări din repertoriul pianistic romantic: Concertul nr. 2 pentru pian și orchestră în la major de Franz Liszt. \nÎn a doua parte\, audiem Rapsodia spaniolă de Isaac Albéniz\, o lucrare plină de savoare iberică și virtuozitate. Apoi\, ne lăsăm purtați într-o călătorie emoțională profundă prin capodopera lui Piotr Ilici Ceaikovski – Simfonia a V-a în mi minor\, o lucrare monumentală\, încărcată de dramatism\, speranță și triumf.
URL:https://filarmonicabanatul.ro/evenimente/symphony-of-victory-orchestra-simfonica-a-filarmonicii-banatul-timisoara-dirijor-daniel-raiskin-solist-simon-trpceski/
LOCATION:Sala Capitol\, Bulevardul Constantin Diaconovici Loga Nr. 2\, Timișoara\, Timiș\, 300022\, România
ATTACH;FMTTYPE=image/png:https://filarmonicabanatul.ro/wp-content/uploads/2025/10/05-Decembrie_ENTERTIX-1200-X-628.png
ORGANIZER;CN="Filarmonica Banatul Timi%C8%99oara":MAILTO:office@filarmonicabanatul.ro
END:VEVENT
BEGIN:VEVENT
DTSTART;TZID=Europe/Bucharest:20251206T110000
DTEND;TZID=Europe/Bucharest:20251206T120000
DTSTAMP:20260419T213000
CREATED:20251008T101338Z
LAST-MODIFIED:20251107T102329Z
UID:8574-1765018800-1765022400@filarmonicabanatul.ro
SUMMARY:Lollie Tunes | Recital educativ - Muzică din desene animate (2 – 7 ani)
DESCRIPTION:Lollie Tunes este un recital educativ dedicat copiilor cu vârste între 2 și 7 ani\, unde muzica din cele mai îndrăgite desene animate prinde viață într-o formulă instrumentală captivantă. Vor interpreta: \nAna David – vioară\nCarmen Iuga – vioară\nAndreea Szekeres – violoncel\nBogdan Preda – flaut\nAndreea Olariu – pian \nEvenimentul le oferă celor mici ocazia de a descoperi farmecul muzicii live\, într-un cadru prietenos și interactiv. Aranjamentele sunt semnate de Cristian Spătaru\, iar prezentatorul Ionuț Marian Pîrvulescu va ghida publicul prin această aventură sonoră cu energie și entuziasm. \n!!! Pentru ca bucuria să fie completă\, toți copiii vor primi acadele\, oferite cu generozitate de partenerul nostru Profi – un gest dulce care transformă muzica într-o sărbătoare a copilăriei.
URL:https://filarmonicabanatul.ro/evenimente/lollie-tunes-recital-educativ-muzica-din-desene-animate-2-7-ani/
LOCATION:Sala Capitol\, Bulevardul Constantin Diaconovici Loga Nr. 2\, Timișoara\, Timiș\, 300022\, România
ATTACH;FMTTYPE=image/png:https://filarmonicabanatul.ro/wp-content/uploads/2025/10/06-Decembrie-Educativ_ENTERTIX-1200-X-628.png
ORGANIZER;CN="Filarmonica Banatul Timi%C8%99oara":MAILTO:office@filarmonicabanatul.ro
END:VEVENT
BEGIN:VEVENT
DTSTART;TZID=Europe/Bucharest:20251206T190000
DTEND;TZID=Europe/Bucharest:20251206T203000
DTSTAMP:20260419T213000
CREATED:20251120T091941Z
LAST-MODIFIED:20251126T090641Z
UID:8757-1765047600-1765053000@filarmonicabanatul.ro
SUMMARY:SEI SOLO I | Recital Elicia Silverstein | Integrala Sonatelor și Partitelor de J. S. Bach pentru vioară solo
DESCRIPTION:Seara de 6 decembrie deschide Festivalul Musica Ricercata Op. 8 | Triade cu primul episod al explorării monumentalei colecții de Sonate și Partite pentru vioară solo de Johann Sebastian Bach\, în interpretarea excepționalei violoniste Elicia Silverstein. \nRecunoscută pentru profunzimea lecturii sale muzicale și pentru sensibilitatea cu care abordează repertoriul baroc\, Silverstein invită publicul într-o călătorie sonoră în care spiritualitatea\, arhitectura contrapunctică și eleganța discursului se împletesc în mod armonios.
URL:https://filarmonicabanatul.ro/evenimente/sei-solo-i-recital-elicia-silverstein-integrala-sonatelor-si-partitelor-de-j-s-bach-pentru-vioara-solo/
LOCATION:Sala ARChA\, UPT\, Bd. Mihai Viteazu\, nr. 1\, UPT\, Timișoara
ATTACH;FMTTYPE=image/png:https://filarmonicabanatul.ro/wp-content/uploads/2025/11/06-decembrie_ENTERTIX-1200-X-628.png
ORGANIZER;CN="Filarmonica Banatul Timi%C8%99oara":MAILTO:office@filarmonicabanatul.ro
END:VEVENT
BEGIN:VEVENT
DTSTART;TZID=Europe/Bucharest:20251207T190000
DTEND;TZID=Europe/Bucharest:20251207T203000
DTSTAMP:20260419T213000
CREATED:20251120T093834Z
LAST-MODIFIED:20251126T090833Z
UID:8759-1765134000-1765139400@filarmonicabanatul.ro
SUMMARY:SEI SOLO II | Recital Elicia Silverstein | Integrala Sonatelor și Partitelor de J. S. Bach pentru vioară solo
DESCRIPTION:Recitalul din 7 decembrie aduce în prim-plan cea de-a doua parte a integralei Sonatelor și Partitelor pentru vioară solo de Johann Sebastian Bach\, completând astfel panorama artistică deschisă în seara precedentă.  \nElicia Silverstein își continuă demersul interpretativ cu aceeași finețe și claritate emoțională\, oferind publicului o înțelegere profundă a universului bachian. În această a doua etapă\, virtuozitatea\, introspecția și rigoarea muzicală ating un echilibru desăvârșit\, transformând recitalul într-o experiență deopotrivă revelatoare și memorabilă.
URL:https://filarmonicabanatul.ro/evenimente/sei-solo-ii-recital-elicia-silverstein-integrala-sonatelor-si-partitelor-de-j-s-bach-pentru-vioara-solo/
LOCATION:Sala ARChA\, UPT\, Bd. Mihai Viteazu\, nr. 1\, UPT\, Timișoara
ATTACH;FMTTYPE=image/png:https://filarmonicabanatul.ro/wp-content/uploads/2025/11/07-decembrie_ENTERTIX-1200-X-628.png
ORGANIZER;CN="Filarmonica Banatul Timi%C8%99oara":MAILTO:office@filarmonicabanatul.ro
END:VEVENT
BEGIN:VEVENT
DTSTART;TZID=Europe/Bucharest:20251209T190000
DTEND;TZID=Europe/Bucharest:20251209T203000
DTSTAMP:20260419T213000
CREATED:20251120T094051Z
LAST-MODIFIED:20251126T091048Z
UID:8761-1765306800-1765312200@filarmonicabanatul.ro
SUMMARY:FANTASIA | Recital Aurelia Vișovan - clavecin
DESCRIPTION:Clavecista Aurelia Vișovan aduce pe scena Festivalului Musica Ricercata Op. 8 | Triade  un program rafinat\, dedicat celor doi titani ai barocului: Domenico Scarlatti și Johann Sebastian Bach. \nRecunoscută pentru eleganța tehnică și pentru strălucirea interpretării\, artista propune un dialog sonor între exuberanța iberică a sonatelor lui Scarlatti și echilibrul arhitectural al creației bachiene. \n 
URL:https://filarmonicabanatul.ro/evenimente/fantasia-recital-aurelia-visovan-clavecin/
LOCATION:Sala ARChA\, UPT\, Bd. Mihai Viteazu\, nr. 1\, UPT\, Timișoara
ATTACH;FMTTYPE=image/png:https://filarmonicabanatul.ro/wp-content/uploads/2025/11/09-decembrie_ENTERTIX-1200-X-628.png
ORGANIZER;CN="Filarmonica Banatul Timi%C8%99oara":MAILTO:office@filarmonicabanatul.ro
END:VEVENT
BEGIN:VEVENT
DTSTART;TZID=Europe/Bucharest:20251210T100000
DTEND;TZID=Europe/Bucharest:20260101T000000
DTSTAMP:20260419T213001
CREATED:20251223T165358Z
LAST-MODIFIED:20251223T165358Z
UID:8869-1765360800-1767225600@filarmonicabanatul.ro
SUMMARY:Începe Anul Nou cu Filarmonica Banatul | -40% din prețul biletelor la concertele lunii ianuarie 2026
DESCRIPTION:Începe Noul An cu Filarmonica Banatul Timișoara!\n\nTe așteaptă o selecție specială de concerte la început de an\, acum cu -40% la biletele cu preț întreg de la parterul Sălii Capitol.\n\n\n\nAlege-ți locul și trăiește seri simfonice memorabile!\n\n\n\nOfertă valabilă până la 31 decembrie 2025. Reducerea se aplică exclusiv biletelor cu preț întreg de la parter; celelalte categorii rămân la preț standard.\n\n\n\nNe vedem în sală!
URL:https://filarmonicabanatul.ro/evenimente/incepe-anul-nou-cu-filarmonica-banatul-40-din-pretul-biletelor-la-concertele-lunii-ianuarie-2026/
LOCATION:Sala Capitol\, Bulevardul Constantin Diaconovici Loga Nr. 2\, Timișoara\, Timiș\, 300022\, România
ATTACH;FMTTYPE=image/png:https://filarmonicabanatul.ro/wp-content/uploads/2025/12/Campanie-40__ENTERTIX-1200-X-628-copy.png
ORGANIZER;CN="Filarmonica Banatul Timi%C8%99oara":MAILTO:office@filarmonicabanatul.ro
END:VEVENT
BEGIN:VEVENT
DTSTART;TZID=Europe/Bucharest:20251212T190000
DTEND;TZID=Europe/Bucharest:20251212T210000
DTSTAMP:20260419T213001
CREATED:20251016T095018Z
LAST-MODIFIED:20251126T091118Z
UID:8647-1765566000-1765573200@filarmonicabanatul.ro
SUMMARY:ARTA FUGII | Orchestra simfonică a Filarmonicii Banatul Timișoara |  Dirijor: Gabriel Bebeșelea
DESCRIPTION:Concertul aduce în prim-plan una dintre cele mai fascinante creații ale lui Johann Sebastian Bach – Arta fugii\, prezentată în versiunea orchestrală realizată de Erich Bergel. \nSub conducerea lui Gabriel Bebeșelea\, cunoscut pentru pasiunea sa de a redescoperi și recontextualiza capodoperele vechi\, Arta Fugii devine nu doar un exercițiu de admirație față de geniul lui Bach\, ci și o meditație sonoră asupra ordinii\, echilibrului și eternității în muzică. \nScrisă în ultimii ani ai vieții\, Arta fugii este o sinteză a gândirii muzicale bachiene\, un studiu al contrapunctului dus la perfecțiune și\, în același timp\, o reflecție asupra ordinii și echilibrului din muzică. Lucrarea a rămas neterminată și fără o instrumentație indicată\, fapt care a inspirat de-a lungul timpului numeroase versiuni și interpretări. Transcrierea lui Erich Bergel – dirijor și compozitor cu origini transilvănene\, apreciat pentru viziunea sa clară și spirituală asupra muzicii lui Bach – aduce aceste pagini în spațiul simfonic\, păstrând rigoarea contrapunctului\, dar îmbogățindu-le cu o paletă orchestrală luminoasă și echilibrată.
URL:https://filarmonicabanatul.ro/evenimente/art-of-bach-orchestra-simfonica-a-filarmonicii-banatul-timisoara-dirijor-gabriel-bebeselea-2/
LOCATION:Sala Capitol\, Bulevardul Constantin Diaconovici Loga Nr. 2\, Timișoara\, Timiș\, 300022\, România
ATTACH;FMTTYPE=image/png:https://filarmonicabanatul.ro/wp-content/uploads/2025/10/12-decembrie_ENTERTIX-1200-X-628.png
ORGANIZER;CN="Filarmonica Banatul Timi%C8%99oara":MAILTO:office@filarmonicabanatul.ro
END:VEVENT
BEGIN:VEVENT
DTSTART;TZID=Europe/Bucharest:20251214T190000
DTEND;TZID=Europe/Bucharest:20251214T203000
DTSTAMP:20260419T213001
CREATED:20251120T094308Z
LAST-MODIFIED:20251210T114614Z
UID:8763-1765738800-1765744200@filarmonicabanatul.ro
SUMMARY:HÄNDEL GALA | Ansamblul Musica Ricercata | Dirijor: Gabriel Bebeșelea | Soliști: Julia Lezhneva – soprană\, Valer Sabadus – contratenor
DESCRIPTION:Festivalul Musica Ricercata Op. 8 | Triade se încheie cu o seară festivă dedicată integral operei și muzicii vocale ale lui Georg Friedrich Händel. Sub bagheta lui Gabriel Bebeșelea\, Ansamblul Musica Ricercata îi are ca invitați pe doi dintre cei mai străluciți interpreți de muzică barocă: soprana Julia Lezhneva și contratenorul Valer Sabadus. \nProgramul reunește arii de mare virtuozitate și pagini orchestrale pline de dramatism și strălucire. O gală dedicată virtuozității și emoției – un final triumfal al festivalului. \n____________ \nJulia Lezhneva \n„…cantilene sublime\, cu ornamente țesute ca firele de argint\, staccaturi cu elasticitatea unei trambuline și triluri perfect echilibrate… și o stăpânire tulburătoare a messa di voce.” (FAZ\, 2021)Süddeutsche Zeitung o numește „o magiciană capabilă să facă vocea să dispară și să creeze adevărate artificii vocale”. \nCariera internațională a Juliei Lezhneva a explodat în 2010\, când a impresionat la Classical Brit Awards în Royal Albert Hall\, la invitația lui Dame Kiri Te Kanawa. De atunci\, artista a devenit o prezență constantă pe scene de prim rang\, având debuturi remarcabile cu Berliner Philharmoniker\, la Musikverein Viena și la Mozartwoche Salzburg. În 2023 a cântat pentru prima dată la Teatro alla Scala în Carlo il Calvo\, iar sezonul 2024/25 marchează debuturile cu LA Philharmonic și Atlanta Symphony. \nEste invitată regulat de orchestre precum Gewandhausorchester Leipzig\, Deutsche Kammerphilharmonie Bremen\, RSB\, Orquestra Nacional de España sau Seattle Symphony și colaborează cu dirijori de prestigiu: Adam Fischer\, Giovanni Antonini\, Herbert Blomstedt\, Emmanuelle Haïm\, Paavo Järvi\, Vladimir Jurowski și Andrea Marcon. Participă frecvent la festivaluri importante – Salzburg\, Lucerna\, Schleswig-Holstein\, Sion\, Bayreuth Baroque. \nPe scena lirică s-a remarcat în Alcina (Hamburg\, 2018)\, urmată de roluri în Il barbiere di Siviglia\, Agrippina\, Don Giovanni și Le nozze di Figaro. A evoluat în oratorii și opere sacre de Bach\, Händel\, Vivaldi\, Haydn și Mahler\, iar în 2024 a colaborat pentru prima dată cu Ton Koopman în Esther. \nNăscută în 1989 pe Insula Sahalin\, Julia Lezhneva a studiat pianul și canto-ul încă din copilărie. Câștigătoare a unor competiții internaționale de prestigiu\, a devenit rapid una dintre cele mai apreciate soprane ale generației sale. Printre mentorii săi se numără Dennis O’Neill\, Yvonne Kenny\, Elena Obraztsova\, Alberto Zedda\, Richard Bonynge și Thomas Quasthoff. \n____________ \nValer Sabadus \nEste unul dintre cei mai apreciați contratenori ai generației sale\, distins prin timbrul său strălucitor\, agilitatea vocală remarcabilă și expresivitatea profundă. Interpretările sale\, caracterizate de o sensibilitate muzicală rară și o tehnică impecabilă\, l-au impus rapid în lumea muzicii baroce și nu numai\, devenind un reper pentru repertoriul dedicat vocii de contratenor. \nColaborează în mod constant cu ansambluri de prestigiu\, precum Il Pomo d’Oro\, Freiburger Barockorchester\, Lautten Compagney Berlin sau Concerto Köln\, construind împreună proiecte artistice de mare impact. Prezența sa scenică este solicitată pe importante scene internaționale – Opera din Zürich\, Théâtre des Champs-Élysées\, Bayerische Staatsoper – precum și la festivaluri consacrate\, precum Salzburg Festival\, Bayreuth Baroque\, Ludwigsburg sau Händel-Festspiele Halle. \nRepertoriul lui Valer Sabadus acoperă un arc larg\, de la opere baroce semnate de Händel\, Hasse sau Porpora\, până la lucrări clasice\, romantice și contemporane\, demonstrând o versatilitate interpretativă rar întâlnită. De asemenea\, discografia sa premiată reflectă rafinamentul cu care abordează fiecare partitură și dorința de a explora permanent noi teritorii artistice. \nNăscut în 1986 în România și format la Hochschule für Musik und Theater München\, Valer Sabadus a devenit în scurt timp una dintre vocile marcante ale scenei internaționale\, un artist care captivează prin eleganță\, profunzime și o prezență artistică inconfundabilă.
URL:https://filarmonicabanatul.ro/evenimente/handel-gala-ansamblul-musica-ricercata-dirijor-gabriel-bebeselea-solisti-iulia-lezhneva-soprana-valer-sabadus-contratenor/
LOCATION:Sala Capitol\, Bulevardul Constantin Diaconovici Loga Nr. 2\, Timișoara\, Timiș\, 300022\, România
ATTACH;FMTTYPE=image/png:https://filarmonicabanatul.ro/wp-content/uploads/2025/11/14-decembrie_ENTERTIX-1200-X-628.png
ORGANIZER;CN="Filarmonica Banatul Timi%C8%99oara":MAILTO:office@filarmonicabanatul.ro
END:VEVENT
BEGIN:VEVENT
DTSTART;TZID=Europe/Bucharest:20251216T190000
DTEND;TZID=Europe/Bucharest:20251216T203000
DTSTAMP:20260419T213001
CREATED:20251118T105152Z
LAST-MODIFIED:20251118T105152Z
UID:8746-1765911600-1765917000@filarmonicabanatul.ro
SUMMARY:REFLECTIONS AND RESONANCE  | Valentin Răduțiu - violoncel\, Eva Garet - pian
DESCRIPTION:Violoncelistul Valentin Răduțiu (Artist în Rezidență al Filarmonicii Banatul Timișoara în Stagiunea 2025 – 2026) și pianista Eva Garet vă invită la un dialog sonor captivant\, marți\, 16 decembrie 2025\, de la ora 19:00\, la Sala Capitol. \nReflections and Resonance propune o călătorie muzicală ce traversează expresivitatea interioară\, dramatismul romantic și strălucirea virtuozității\, într-un program ce reunește trei compozitori de referință ai repertoriului pentru violoncel și pian. \nSeara se deschide cu Sonata pentru violoncel solo\, op. 8 de Zoltán Kodály\, una dintre capodoperele secolului XX. Urmează Sonata în sol minor pentru violoncel și pian\, op. 19 de Serghei Rahmaninov. Recitalul se încheie cu spectaculoasele Variațiuni pe o temă de G. Rossini de Niccolò Paganini\, o demonstrație de virtuozitate și rafinament și strălucire tehnică. \n 
URL:https://filarmonicabanatul.ro/evenimente/reflections-and-resonance-valentin-radutiu-violoncel-eva-garet-pian/
LOCATION:Sala Capitol\, Bulevardul Constantin Diaconovici Loga Nr. 2\, Timișoara\, Timiș\, 300022\, România
ATTACH;FMTTYPE=image/png:https://filarmonicabanatul.ro/wp-content/uploads/2025/11/16-Decembrie_ENTERTIX-1200-X-628.png
ORGANIZER;CN="Filarmonica Banatul Timi%C8%99oara":MAILTO:office@filarmonicabanatul.ro
END:VEVENT
BEGIN:VEVENT
DTSTART;TZID=Europe/Bucharest:20251217T190000
DTEND;TZID=Europe/Bucharest:20251217T210000
DTSTAMP:20260419T213001
CREATED:20251013T121932Z
LAST-MODIFIED:20251215T130629Z
UID:8634-1765998000-1766005200@filarmonicabanatul.ro
SUMMARY:Recviem IN MEMORIAM dedicat victimelor comunismului | Dirijor: AZIS SADIKOVIC
DESCRIPTION:Sub bagheta dirijorului Azis Sadikovic\, Orchestra simfonică și Corul „Ion Românu” ale Filarmonicii Banatul Timișoara dau glas unui proiect de o profunzime rară – Recviem IN MEMORIAM\, o creație colectivă dedicată victimelor comunismului din Europa Centrală și de Est. \nAceastă lucrare\, semnată de șapte compozitori proveniți din șapte țări marcate de aceeași istorie frământată\, reunește într-un limbaj contemporan experiențe\, suferințe și speranțe comune. Fiecare parte a lucrării poartă amprenta unei culturi\, dar și a unei dureri universale\, transformând tăcerea în muzică și memoria în emoție. \nSoliștii Luiza Fatyol (soprană)\, Martiniana Antonie (mezzosoprană)\, Marius Budoiu (tenor) și Alin Anca (bas) dau glas acestei evocări colective\, într-o seară în care muzica devine mărturie și omagiu.
URL:https://filarmonicabanatul.ro/evenimente/recviem-in-memoriam-dedicat-victimelor-comunismului-dirijor-azis-sadikovic/
LOCATION:Sala Capitol\, Bulevardul Constantin Diaconovici Loga Nr. 2\, Timișoara\, Timiș\, 300022\, România
ATTACH;FMTTYPE=image/png:https://filarmonicabanatul.ro/wp-content/uploads/2025/10/in-MEMORIAM_ENTERTIX-1200-X-628.png
ORGANIZER;CN="Filarmonica Banatul Timi%C8%99oara":MAILTO:office@filarmonicabanatul.ro
END:VEVENT
BEGIN:VEVENT
DTSTART;TZID=Europe/Bucharest:20251219T190000
DTEND;TZID=Europe/Bucharest:20251219T210000
DTSTAMP:20260419T213001
CREATED:20251013T122656Z
LAST-MODIFIED:20251222T101913Z
UID:8636-1766170800-1766178000@filarmonicabanatul.ro
SUMMARY:CHRISTMAS BLESSINGS | Concert coral de colinde | Dirijor: Iosif Todea
DESCRIPTION:Toate biletele pentru acest concert au fost vândute! Vă mulțumim pentru interes! \n_______ \n\nIntră într-o atmosferă magică de sărbătoare alături de Corul „Ion Românu”\, care aduce la viață cele mai frumoase colinde din repertoriul românesc și internațional. Sub conducerea maestrului Iosif Todea\, vocea corului creează o experiență muzicală caldă și plină de emoție\, în care tradiția și bucuria Crăciunului se împletesc armonios. \nDe la colindele cunoscute ce ne amintesc de copilărie\, până la melodii internaționale ce aduc un farmec universal sărbătorilor\, acest concert este o experiență sonoră a spiritului autentic al Crăciunului. \nVino să trăiești un Crăciun autentic\, în sunetul colindelor\, alături de Corul „Ion Românu” al Filarmonicii Banatul Timișoara\, vineri\, 19 decembrie 2025. Concertul coral de colinde are loc la Sala Capitol\, de la ora 19:00.
URL:https://filarmonicabanatul.ro/evenimente/christmas-blessings-concert-coral-de-colinde-dirijor-iosif-todea/
LOCATION:Sala Capitol\, Bulevardul Constantin Diaconovici Loga Nr. 2\, Timișoara\, Timiș\, 300022\, România
ATTACH;FMTTYPE=image/png:https://filarmonicabanatul.ro/wp-content/uploads/2025/10/19-Decembrie-Sold_ENTERTIX-1200-X-628.png
ORGANIZER;CN="Filarmonica Banatul Timi%C8%99oara":MAILTO:office@filarmonicabanatul.ro
END:VEVENT
BEGIN:VEVENT
DTSTART;TZID=Europe/Bucharest:20251230T190000
DTEND;TZID=Europe/Bucharest:20251230T210000
DTSTAMP:20260419T213001
CREATED:20251014T080250Z
LAST-MODIFIED:20251210T112403Z
UID:8638-1767121200-1767128400@filarmonicabanatul.ro
SUMMARY:NEW BEGINNINGS | Concert simfonic extraordinar de Anul Nou | Dirijor: VLAD IFTINCA\, soliști: CLAUDIA MUSCHIO - soprană\, ALBERTO ROBERT - tenor
DESCRIPTION:Toate biletele pentru acest concert au fost vândute! Vă mulțumim pentru interes! \n_____ \nFilarmonica Banatul Timișoara vă invită să încheiați anul într-o atmosferă plină de strălucire și emoție\, la tradiționalul concert simfonic extraordinar de Anul Nou intitulat New Beginnings. \nSub bagheta dirijorului Vlad Iftinca\, orchestra va oferi un program vibrant\, menit să celebreze speranța și bucuria unui nou început. \nSeara va fi îmbogățită de prezența a doi invitați de excepție: soprana Claudia Muschio\, o voce de o finețe și expresivitate remarcabile\, și Alberto Robert\, tenor apreciat pentru timbrul său cald și interpretările pline de pasiune. \nProgramul concertului reunește lucrări îndrăgite din repertoriul simfonic și liric internațional\, aducând pe scenă energia vitală și rafinamentul specific marilor concerte de Anul Nou.
URL:https://filarmonicabanatul.ro/evenimente/new-beginnings-concert-simfonic-extraordinar-de-anul-nou-dirijor-vlad-iftinca-solisti-claudia-muschio-soprana-alberto-robert-tenor/
LOCATION:Sala Capitol\, Bulevardul Constantin Diaconovici Loga Nr. 2\, Timișoara\, Timiș\, 300022\, România
ATTACH;FMTTYPE=image/png:https://filarmonicabanatul.ro/wp-content/uploads/2025/10/30-Decembrie_Sold-Out-ENTERTIX-1200-X-628.png
ORGANIZER;CN="Filarmonica Banatul Timi%C8%99oara":MAILTO:office@filarmonicabanatul.ro
END:VEVENT
END:VCALENDAR