BEGIN:VCALENDAR
VERSION:2.0
PRODID:-//Filarmonica Banatul Timișoara - ECPv6.10.2//NONSGML v1.0//EN
CALSCALE:GREGORIAN
METHOD:PUBLISH
X-WR-CALNAME:Filarmonica Banatul Timișoara
X-ORIGINAL-URL:https://filarmonicabanatul.ro
X-WR-CALDESC:Events for Filarmonica Banatul Timișoara
REFRESH-INTERVAL;VALUE=DURATION:PT1H
X-Robots-Tag:noindex
X-PUBLISHED-TTL:PT1H
BEGIN:VTIMEZONE
TZID:Europe/Bucharest
BEGIN:DAYLIGHT
TZOFFSETFROM:+0200
TZOFFSETTO:+0300
TZNAME:EEST
DTSTART:20260329T010000
END:DAYLIGHT
BEGIN:STANDARD
TZOFFSETFROM:+0300
TZOFFSETTO:+0200
TZNAME:EET
DTSTART:20261025T010000
END:STANDARD
END:VTIMEZONE
BEGIN:VEVENT
DTSTART;TZID=Europe/Bucharest:20260109T190000
DTEND;TZID=Europe/Bucharest:20260109T210000
DTSTAMP:20260419T232310
CREATED:20251121T123517Z
LAST-MODIFIED:20260108T100050Z
UID:8777-1767985200-1767992400@filarmonicabanatul.ro
SUMMARY:SOLD OUT | WALTZES AND WHIRLWINDS | Orchestra simfonică a Filarmonicii Banatul Timișoara | Dirijor: Cristian Spătaru
DESCRIPTION:Toate biletele pentru acest concert au fost vândute! Vă mulțumim pentru interes! \n___________ \nDe la strălucirea deschiderii cu Liliacul până la emoția inconfundabilă a Dunării albastre\, Filarmonica Banatul Timișoara invită publicul să pășească în Noul An într-un cadru festiv. O călătorie muzicală plină de grație\, energie și rafinament vienez. Sub bagheta dirijorului Cristian Spătaru\, Orchestra simfonică a Filarmonicii Banatul explorează cele mai îndrăgite pagini semnate de Johann și Josef Strauss\, într-un program ce îmbină valsuri ample\, polci efervescente și momente de virtuozitate orchestrală. \nLa mulți ani!
URL:https://filarmonicabanatul.ro/evenimente/waltzes-and-whirlwinds-orchestra-simfonica-a-filarmonicii-banatul-timisoara-dirijor-cristian-spataru/
LOCATION:Sala Capitol\, Bulevardul Constantin Diaconovici Loga Nr. 2\, Timișoara\, Timiș\, 300022\, România
ATTACH;FMTTYPE=image/png:https://filarmonicabanatul.ro/wp-content/uploads/2025/11/SOLD-OUT-9-ianuarie-Entertix-scaled.png
END:VEVENT
BEGIN:VEVENT
DTSTART;TZID=Europe/Bucharest:20260110T110000
DTEND;TZID=Europe/Bucharest:20260110T120000
DTSTAMP:20260419T232310
CREATED:20251121T124014Z
LAST-MODIFIED:20251223T174105Z
UID:8779-1768042800-1768046400@filarmonicabanatul.ro
SUMMARY:Lollie Tunes | Recital educativ - Muzică din desene animate (2–7 ani)
DESCRIPTION:Un recital educativ dedicat copiilor între 2 și 7 ani\, în care universul desenelor animate se împletește cu muzica live. Publicul va recunoaște teme familiare din filme și animații\, reinterpretate prin aranjamente originale\, într-o experiență interactivă și plină de energie. \nPrezentatorul Ionuț Marian Pîrvulescu îi va ghida pe cei mici pentru a descoperi frumusețea sunetelor interpretate de viori\, violoncel\, flaut și pian. O dimineață plină de culoare\, ritm și voie bună. \nSoliști: \nAna David – vioară \nCarmen Iuga – vioară \nAndreea Szekeres – violoncel \nBogdan Preda – flaut \nAndreea Olariu – pian \n  \nAranjamente: Cristian Spătaru\nPrezentator: Ionuț Marian Pîrvulescu
URL:https://filarmonicabanatul.ro/evenimente/loloie-tunes-recital-educativ-muzica-din-desene-animate-2-7-ani/
LOCATION:Sala Capitol\, Bulevardul Constantin Diaconovici Loga Nr. 2\, Timișoara\, Timiș\, 300022\, România
ATTACH;FMTTYPE=image/png:https://filarmonicabanatul.ro/wp-content/uploads/2025/11/10-Ianuarie-Educativ_ENTERTIX-1200-X-628-1.png
ORGANIZER;CN="Filarmonica Banatul Timi%C8%99oara":MAILTO:office@filarmonicabanatul.ro
END:VEVENT
BEGIN:VEVENT
DTSTART;TZID=Europe/Bucharest:20260114T190000
DTEND;TZID=Europe/Bucharest:20260114T210000
DTSTAMP:20260419T232310
CREATED:20260109T120558Z
LAST-MODIFIED:20260109T120622Z
UID:8902-1768417200-1768424400@filarmonicabanatul.ro
SUMMARY:Voices and Visions | Orchestra Facultății de Muzică și Teatru | Dirijori: Szabolcs Hermann\, Christian Câșleanu
DESCRIPTION:Orchestra Facultății de Muzică și Teatru a Universității de Vest din Timișoara vă invită la un concert simfonic cu un program variat\, ce îmbină arii celebre și lucrări orchestrale de referință. \nPartea I\nDirijor: Szabolcs Hermann\nSoliști:\nAnca Domuța\, Ionela Andreea Katona\, Ada Mârza\, Noémi Nagy\,\nEmanuel Nicoară\, Rebeca Pricopi\, Bianca Țifrea\, Violeta Tulbea \nÎn program\, arii de Bach\, Donizetti\, Händel\, Mozart\, Rossini\, Saint-Saëns\n_____________\nPartea a II-a\nDirijor: Christian Câșleanu\nSoliști: Oana Palconi\, Lucas Kohl \nÎn program:\nSaint-Saëns – Carnavalul animalelor\nBartók – Dansuri populare românești pentru orchestră\nGrieg – Peer Gynt\, suita nr. 1 \nConcertul are loc miercuri\, 14 ianuarie 2026\, de la ora 19:00\, la Sala Capitol. \n 
URL:https://filarmonicabanatul.ro/evenimente/voices-and-visions-orchestra-facultatii-de-muzica-dirijori-szabolcs-hermann-christian-casleanu/
LOCATION:Sala Capitol\, Bulevardul Constantin Diaconovici Loga Nr. 2\, Timișoara\, Timiș\, 300022\, România
ATTACH;FMTTYPE=image/png:https://filarmonicabanatul.ro/wp-content/uploads/2026/01/14-ianuarie_ENTERTIX-1200-X-628-scaled.png
ORGANIZER;CN="Filarmonica Banatul Timi%C8%99oara":MAILTO:office@filarmonicabanatul.ro
END:VEVENT
BEGIN:VEVENT
DTSTART;TZID=Europe/Bucharest:20260115T190000
DTEND;TZID=Europe/Bucharest:20260115T210000
DTSTAMP:20260419T232310
CREATED:20251121T124226Z
LAST-MODIFIED:20260112T080152Z
UID:8781-1768503600-1768510800@filarmonicabanatul.ro
SUMMARY:CONCERT CORAL | Corul „Ion Românu” al Filarmonicii Banatul | Dirijor: Iosif Todea
DESCRIPTION:O seară dedicată frumuseții și expresivității muzicii corale românești\, prezentată de Corul Filarmonicii\, sub bagheta dirijorului Iosif Todea. Spectatorii vor putea descoperi armonii bogate\, interpretări pasionale și tradiția corală autentică\, într-un concert plin de sensibilitate și profunzime artistică. \nUn eveniment ce onorează cultura muzicală românească și oferă o experiență sonoră emoționantă\, perfectă pentru iubitorii de muzică corală.
URL:https://filarmonicabanatul.ro/evenimente/concert-coral-corul-ion-romanu-al-filarmonicii-banatul-dirijor-iosif-todea/
LOCATION:Sala Capitol\, Bulevardul Constantin Diaconovici Loga Nr. 2\, Timișoara\, Timiș\, 300022\, România
ATTACH;FMTTYPE=image/png:https://filarmonicabanatul.ro/wp-content/uploads/2025/11/15-ianuarie_ENTERTIX-1200-X-628.png
ORGANIZER;CN="Filarmonica Banatul Timi%C8%99oara":MAILTO:office@filarmonicabanatul.ro
END:VEVENT
BEGIN:VEVENT
DTSTART;TZID=Europe/Bucharest:20260116T190000
DTEND;TZID=Europe/Bucharest:20260116T210000
DTSTAMP:20260419T232310
CREATED:20251121T124643Z
LAST-MODIFIED:20251223T174214Z
UID:8783-1768590000-1768597200@filarmonicabanatul.ro
SUMMARY:PORTRETE ROMÂNEȘTI | Orchestra simfonică a Filarmonicii Banatul | Dirijor: Radu Popa | Solist: Andrei Gologan – pian
DESCRIPTION:O seară dedicată expresivității și diversității muzicii românești\, cu lucrări semnate de patru compozitori importanți. Orchestra simfonică a Fialrmonicii Banatul\, sub conducerea dirijorului Radu Popa\, îl acompaniază pe pianistul Andrei Gologan\, într-un program care combină momente delicate pentru pian cu pasaje simfonice impresionante. \nDe la rafinamentul lui N. KIRCULESCU și virtuozitatea concertului de C. PETRA-BASACOPOL\, până la eleganța clasică a lui G. ENESCU și suita plină de forță a lui T. OLAH\, publicul este invitat să descopere portrete muzicale ale României\, într-o interpretare plină de culoare\, energie și sensibilitate. \nDirijor: Radu Popa\nSolist: Andrei Gologan – pian \nÎn program: \nN. KIRCULESCU – Moment muzical pentru pian și orchestră \nC. PETRA-BASACOPOL – Concertul pentru pian și orchestră \nG. ENESCU – Preludiu și Menuet Lent din Suita nr. 1 pentru orchestră\, Op. 9 \nT. OLAH – Suita simfonică „Mihai Viteazul”
URL:https://filarmonicabanatul.ro/evenimente/portraits-of-romania-orchestra-simfonica-a-filarmonicii-banatul-dirijor-radu-popa-solist-andrei-gologan-pian/
LOCATION:Sala Capitol\, Bulevardul Constantin Diaconovici Loga Nr. 2\, Timișoara\, Timiș\, 300022\, România
ATTACH;FMTTYPE=image/png:https://filarmonicabanatul.ro/wp-content/uploads/2025/11/16-ianuarie_ENTERTIX-1200-X-628.png
ORGANIZER;CN="Filarmonica Banatul Timi%C8%99oara":MAILTO:office@filarmonicabanatul.ro
END:VEVENT
BEGIN:VEVENT
DTSTART;TZID=Europe/Bucharest:20260123T190000
DTEND;TZID=Europe/Bucharest:20260123T210000
DTSTAMP:20260419T232310
CREATED:20251121T125113Z
LAST-MODIFIED:20251223T174249Z
UID:8785-1769194800-1769202000@filarmonicabanatul.ro
SUMMARY:EROICA | Orchestra simfonică a Filarmonicii Banatul | Dirijor: Giuseppe Mengoli | Solist: Florin Iliescu – vioară
DESCRIPTION:Dirijor: Giuseppe Mengoli\nSolist: Florin Iliescu – vioară \nÎn program: \nARVO PÄRT – Fratres \nH. WIENIAWSKI – Concertul pentru vioară și orchestră nr. 2 \nL. van BEETHOVEN – Simfonia nr. 3 în mi bemol major\, op. 55\, Eroica \nO seară dedicată reflecției și curajului în muzică\, cu lucrări ce combină subtilitatea contemporană a lui Arvo Pärt\, virtuozitatea solistică a lui H. Wieniawski și forța monumentală a Simfoniei Eroica de L. van Beethoven. \nOrchestra simfonică a Filarmonicii Banatul condusă de Giuseppe Mengoli\, îl însoțește pe violonistul Florin Iliescu într-un program ce alternează momente de introspecție\, intensitate și emoție puternică\, oferind publicului o experiență muzicală memorabilă\, plină de expresivitate și dramatism.
URL:https://filarmonicabanatul.ro/evenimente/eroica-orchestra-simfonica-a-filarmonicii-banatul-dirijor-giuseppe-mengoli-solist-florin-iliescu-vioara/
LOCATION:Sala Capitol\, Bulevardul Constantin Diaconovici Loga Nr. 2\, Timișoara\, Timiș\, 300022\, România
ATTACH;FMTTYPE=image/png:https://filarmonicabanatul.ro/wp-content/uploads/2025/11/23-ianuarie_ENTERTIX-1200-X-628.png
ORGANIZER;CN="Filarmonica Banatul Timi%C8%99oara":MAILTO:office@filarmonicabanatul.ro
END:VEVENT
BEGIN:VEVENT
DTSTART;TZID=Europe/Bucharest:20260130T190000
DTEND;TZID=Europe/Bucharest:20260130T210000
DTSTAMP:20260419T232310
CREATED:20251121T125317Z
LAST-MODIFIED:20251223T174419Z
UID:8787-1769799600-1769806800@filarmonicabanatul.ro
SUMMARY:LIGHT & FIRE | Orchestra simfonică a Filarmonicii Banatul | Dirijor: Daniel Geiss | Solist: Benedict Klöckner – violoncel
DESCRIPTION:Dirijor: Daniel Geiss\nSolist: Benedict Klöckner – violoncel \nÎn program: \nG. HOLST – Suita japoneză\, op. 33 \nÉ. LALO – Concertul pentru violoncel și orchestră în re minor \nI. STRAVINSKI – Suita simfonică „Pasărea de foc” (1919) \nO seară plină de contraste și culoare\, unde delicatețea sonoră se întâlnește cu energia explozivă. Orchestra simfonică\, sub conducerea dirijorului Daniel Geiss\, îl acompaniază pe violoncelistul Benedict Klöckner în interpretarea Concertului de É. Lalo\, o lucrare plină de lirism și expresivitate. \nDe la exotismul rafinat al Suitei japoneze de G. Holst\, la intensitatea și magia fascinantă a Păsării de foc de I. Stravinski\, programul oferă publicului o experiență muzicală de mare impact sonor\, cu momente de tensiune\, emoție și strălucire orchestrală
URL:https://filarmonicabanatul.ro/evenimente/light-fire-orchestra-simfonica-a-filarmonicii-banatul-dirijor-daniel-geiss-solist-benedict-klockner-violoncel/
LOCATION:Sala Capitol\, Bulevardul Constantin Diaconovici Loga Nr. 2\, Timișoara\, Timiș\, 300022\, România
ATTACH;FMTTYPE=image/png:https://filarmonicabanatul.ro/wp-content/uploads/2025/11/30-ianuarie_ENTERTIX-1200-X-628.png
ORGANIZER;CN="Filarmonica Banatul Timi%C8%99oara":MAILTO:office@filarmonicabanatul.ro
END:VEVENT
BEGIN:VEVENT
DTSTART;TZID=Europe/Bucharest:20260131T110000
DTEND;TZID=Europe/Bucharest:20260131T120000
DTSTAMP:20260419T232310
CREATED:20251223T181310Z
LAST-MODIFIED:20251229T090612Z
UID:8890-1769857200-1769860800@filarmonicabanatul.ro
SUMMARY:Miracolul muzicii pentru bebeluși | Recital educativ 0-2 ani
DESCRIPTION:Știați că muzica poate fi primul miracol din viața unui bebeluș? \nSâmbătă\, 31 ianuarie\, de la ora 11:00\, la Sala Capitol vă invităm la un moment special\, creat cu multă grijă și tandrețe pentru cei mai mici spectatori: Recital educativ – Miracolul muzicii pentru bebeluși (0–2 ani) \nSunete blânde de vioară și harpă\, ritmuri liniștitoare și o atmosferă caldă\, perfectă pentru primele întâlniri ale celor mici cu muzica. \nVor interpreta Marta Chiș la vioară și Mihaela Faur la Harpă.
URL:https://filarmonicabanatul.ro/evenimente/miracolul-muzicii-pentru-bebelusi-recital-educativ-0-2-ani-2/
LOCATION:Sala Capitol\, Bulevardul Constantin Diaconovici Loga Nr. 2\, Timișoara\, Timiș\, 300022\, România
ATTACH;FMTTYPE=image/png:https://filarmonicabanatul.ro/wp-content/uploads/2025/12/31-ianuarie-educativ_ENTERTIX-1200-X-628.png
ORGANIZER;CN="Filarmonica Banatul Timi%C8%99oara":MAILTO:office@filarmonicabanatul.ro
END:VEVENT
END:VCALENDAR